BEGIN:VCALENDAR
VERSION:2.0
PRODID:-//wp-events-plugin.com//6.4.10//EN
TZID:Europe/Vienna
X-WR-TIMEZONE:Europe/Vienna
BEGIN:VEVENT
UID:1262@verkehrsakademie.at
DTSTART;TZID=Europe/Vienna;VALUE=DATE:20200930
DTEND;TZID=Europe/Vienna;VALUE=DATE:20201002
DTSTAMP:20200616T121920Z
URL:https://www.verkehrsakademie.at/events/18-wiener-eisenbahnkolloquium-2
 /
SUMMARY:18. Wiener Eisenbahnkolloquium
DESCRIPTION:Das Programm für das 18. Wiener Eisenbahnkolloquium gibt einen
  Überblick darüber\, wie durch intelligentes Zusammenwirken der Gestaltu
 ng von Infrastrukturen\, Fahrzeugen und digitaler Anwendungsformen rasch u
 nd fahrgastgerecht der bisher erreichte Erfolg im ÖPNV nicht nur erhalten
  sondern weiter verbessert werden kann.\n\nInformation
CATEGORIES:Veranstaltungen
LOCATION:Technisches Museum Wien\, Mariahilferstraße 212\, Wien\, 1140\, 
 Österreich
GEO:48.190645;16.317821
X-APPLE-STRUCTURED-LOCATION;VALUE=URI;X-ADDRESS=Mariahilferstraße 212\, Wi
 en\, 1140\, Österreich;X-APPLE-RADIUS=100;X-TITLE=Technisches Museum Wien
 :geo:48.190645,16.317821
END:VEVENT
BEGIN:VTIMEZONE
TZID:Europe/Vienna
X-LIC-LOCATION:Europe/Vienna
BEGIN:DAYLIGHT
DTSTART:20200329T030000
TZOFFSETFROM:+0100
TZOFFSETTO:+0200
TZNAME:CEST
END:DAYLIGHT
END:VTIMEZONE
END:VCALENDAR