BEGIN:VCALENDAR
VERSION:2.0
PRODID:-//wp-events-plugin.com//6.4.10//EN
TZID:Europe/Vienna
X-WR-TIMEZONE:Europe/Vienna
BEGIN:VEVENT
UID:1468@verkehrsakademie.at
DTSTART;TZID=Europe/Vienna:20221122T000000
DTEND;TZID=Europe/Vienna:20221122T000000
DTSTAMP:20221012T124830Z
URL:https://www.verkehrsakademie.at/events/2-oevg-forum-die-zukunft-des-bu
 sverkehrs/
SUMMARY:2. ÖVG-Forum: Die Zukunft des Busverkehrs
DESCRIPTION:Die Themenschwerpunkte liegen dieses Mal bei den Auswirkungen d
 er Clean Vehicles Directive\, den möglichen Antriebsarten\, der Ausweitun
 g des Angebots\, den Herausforderungen von Auftragsverkehren\, der Persona
 lsituation\, den Fernbuslinien als Alternative zum Schienenverkehr etc.\n\
 nWeitere Informationen
CATEGORIES:Veranstaltungen
END:VEVENT
BEGIN:VTIMEZONE
TZID:Europe/Vienna
X-LIC-LOCATION:Europe/Vienna
BEGIN:STANDARD
DTSTART:20221030T020000
TZOFFSETFROM:+0200
TZOFFSETTO:+0100
TZNAME:CET
END:STANDARD
END:VTIMEZONE
END:VCALENDAR