BEGIN:VCALENDAR
VERSION:2.0
PRODID:-//wp-events-plugin.com//6.4.10//EN
TZID:Europe/Vienna
X-WR-TIMEZONE:Europe/Vienna
BEGIN:VEVENT
UID:179@verkehrsakademie.at
DTSTART;TZID=Europe/Vienna;VALUE=DATE:20150915
DTEND;TZID=Europe/Vienna;VALUE=DATE:20150916
DTSTAMP:20150819T105923Z
URL:https://www.verkehrsakademie.at/events/23-osnabruecker-logistiktag/
SUMMARY:23. Osnabrücker Logistiktag
DESCRIPTION:Herausforderungen und Lösungen für die Branchenlogistik\nDer 
 diesjährige Logistiktag präsentiert realisierte Lösungen aus der branch
 enlogistischen Praxis. Der Schwerpunkt liegt dabei auf den Branchen Automo
 tive\, Aviation\, Handel und Logistikdienstleister. Ziel ist es\, den Proz
 ess vom Erkennen der Herausforderung bis zur Umsetzung der ausgewählten L
 ösung aufzuzeigen.\n\n&nbsp\;\n\nDer Osnabrücker Logistiktag ist eine se
 it 1993 einmal jährlich im Herbst stattfindende Veranstaltung\, die von d
 er Fachgruppe Logistik der Hochschule Osnabrück unter der Schirmherrschaf
 t der IHK Osnabrück – Emsland – Grafschaft Bentheim durchgeführt wir
 d. Hierbei handelt es sich um eine eintägige Vortrags- und Diskussionsrun
 de\, zu der namhafte Vertreter aus der Wirtschaft\, sowie aus Forschung un
 d Lehre referieren. Jeder Osnabrücker Logistiktag steht unter einem aktue
 llen\, logistischen Leitthema.\n\nWeitere Informationen
CATEGORIES:Veranstaltungen
LOCATION:Hochschule Osnabrück\, Caprivistr. 30 A\, Osnabrück\, 49076\, De
 utschland
GEO:52.27696;8.022730000000024
X-APPLE-STRUCTURED-LOCATION;VALUE=URI;X-ADDRESS=Caprivistr. 30 A\, Osnabrü
 ck\, 49076\, Deutschland;X-APPLE-RADIUS=100;X-TITLE=Hochschule Osnabrück:
 geo:52.27696,8.022730000000024
END:VEVENT
BEGIN:VTIMEZONE
TZID:Europe/Vienna
X-LIC-LOCATION:Europe/Vienna
BEGIN:DAYLIGHT
DTSTART:20150329T030000
TZOFFSETFROM:+0100
TZOFFSETTO:+0200
TZNAME:CEST
END:DAYLIGHT
END:VTIMEZONE
END:VCALENDAR