BEGIN:VCALENDAR
VERSION:2.0
PRODID:-//wp-events-plugin.com//6.4.10//EN
TZID:Europe/Vienna
X-WR-TIMEZONE:Europe/Vienna
BEGIN:VEVENT
UID:355@verkehrsakademie.at
DTSTART;TZID=Europe/Vienna;VALUE=DATE:20161026
DTEND;TZID=Europe/Vienna;VALUE=DATE:20161029
DTSTAMP:20160822T080352Z
URL:https://www.verkehrsakademie.at/events/28th-air-cargo-forum-exhibition
 /
SUMMARY:28th Air Cargo Forum & Exhibition
DESCRIPTION:TIACA’s biennial International Air Cargo Forum and Exhibition
  is the premier air cargo industry event. This world-class event rotates e
 very two years between Europe\, the Americas and Asia. Over 3\,000 air car
 go decision makers and more than 200 exhibitors from around the world gath
 er at ACF to network and address current industry challenges and opportuni
 ties. The ACF is a cost-effective way to network and showcase your busines
 s to thousands of leaders and buyers from across the entire air cargo supp
 ly chain. ACF is the perfect opportunity to promote and launch new product
 s and services and to interact with potential and existing customers\, par
 tners and suppliers.\n\nFurther info
CATEGORIES:Veranstaltungen
LOCATION:Paris Expo\, 1 place de la Porte de Versailles\, Paris \, Frankrei
 ch
GEO:48.8327872;2.286304800000039
X-APPLE-STRUCTURED-LOCATION;VALUE=URI;X-ADDRESS=1 place de la Porte de Vers
 ailles\, Paris \, Frankreich;X-APPLE-RADIUS=100;X-TITLE=Paris Expo:geo:48.
 8327872,2.286304800000039
END:VEVENT
BEGIN:VTIMEZONE
TZID:Europe/Vienna
X-LIC-LOCATION:Europe/Vienna
BEGIN:DAYLIGHT
DTSTART:20160327T030000
TZOFFSETFROM:+0100
TZOFFSETTO:+0200
TZNAME:CEST
END:DAYLIGHT
END:VTIMEZONE
END:VCALENDAR