BEGIN:VCALENDAR
VERSION:2.0
PRODID:-//wp-events-plugin.com//6.4.10//EN
TZID:Europe/Vienna
X-WR-TIMEZONE:Europe/Vienna
BEGIN:VEVENT
UID:1573@verkehrsakademie.at
DTSTART;TZID=Europe/Vienna:20240611T000000
DTEND;TZID=Europe/Vienna:20240611T000000
DTSTAMP:20240513T054416Z
URL:https://www.verkehrsakademie.at/events/4-energy-transition-innovation-
 talks/
SUMMARY:4. Energy Transition Innovation Talks
DESCRIPTION:Erfahren Sie Neues aus erster Hand zu einem Bündel an innovati
 ven Technologien\, die helfen\, die Lücke der Versorgung mit erneuerbarer
  Energie zu schließen und die Klimaziele zu erreichen.\n\nWeitere Informa
 tionen
CATEGORIES:Veranstaltungen
END:VEVENT
BEGIN:VTIMEZONE
TZID:Europe/Vienna
X-LIC-LOCATION:Europe/Vienna
BEGIN:DAYLIGHT
DTSTART:20240331T030000
TZOFFSETFROM:+0100
TZOFFSETTO:+0200
TZNAME:CEST
END:DAYLIGHT
END:VTIMEZONE
END:VCALENDAR