BEGIN:VCALENDAR
VERSION:2.0
PRODID:-//wp-events-plugin.com//6.4.10//EN
TZID:Europe/Vienna
X-WR-TIMEZONE:Europe/Vienna
BEGIN:VEVENT
UID:1575@verkehrsakademie.at
DTSTART;TZID=Europe/Vienna:20240906T000000
DTEND;TZID=Europe/Vienna:20240906T000000
DTSTAMP:20240604T065552Z
URL:https://www.verkehrsakademie.at/events/4-oevg-forum-zu-innovationen-im
 -busverkehr/
SUMMARY:4. ÖVG-Forum zu Innovationen im Busverkehr
DESCRIPTION:Am 6. September 2024 findet das 4. ÖVG-Forum zu Innovationen i
 m Busverkehr bei den Wiener Lokalbahnen statt.\n\nWeitere Informationen
CATEGORIES:Veranstaltungen
END:VEVENT
BEGIN:VTIMEZONE
TZID:Europe/Vienna
X-LIC-LOCATION:Europe/Vienna
BEGIN:DAYLIGHT
DTSTART:20240331T030000
TZOFFSETFROM:+0100
TZOFFSETTO:+0200
TZNAME:CEST
END:DAYLIGHT
END:VTIMEZONE
END:VCALENDAR