BEGIN:VCALENDAR
VERSION:2.0
PRODID:-//wp-events-plugin.com//6.4.10//EN
TZID:Europe/Vienna
X-WR-TIMEZONE:Europe/Vienna
BEGIN:VEVENT
UID:868@verkehrsakademie.at
DTSTART;TZID=Europe/Vienna;VALUE=DATE:20180619
DTEND;TZID=Europe/Vienna;VALUE=DATE:20180622
DTSTAMP:20180504T144933Z
URL:https://www.verkehrsakademie.at/events/5th-international-physical-inte
 rnet-conference/
SUMMARY:5th International Physical Internet Conference
DESCRIPTION:Unter dem Motto “BRINGING PHYSICAL INTERNET TO LIFE“ findet
  vom 19.-21. Juni 2018 an der University of Groningen die 5th Internationa
 l Physical Internet Conference statt.\n\nInformation
CATEGORIES:Veranstaltungen
LOCATION:Universität Groningen\, Broerstraat 5\, Groningen\, 9712 CP\, Nie
 derlande
GEO:53.2193266;6.562830099999928
X-APPLE-STRUCTURED-LOCATION;VALUE=URI;X-ADDRESS=Broerstraat 5\, Groningen\,
  9712 CP\, Niederlande;X-APPLE-RADIUS=100;X-TITLE=Universität Groningen:g
 eo:53.2193266,6.562830099999928
END:VEVENT
BEGIN:VTIMEZONE
TZID:Europe/Vienna
X-LIC-LOCATION:Europe/Vienna
BEGIN:DAYLIGHT
DTSTART:20180325T030000
TZOFFSETFROM:+0100
TZOFFSETTO:+0200
TZNAME:CEST
END:DAYLIGHT
END:VTIMEZONE
END:VCALENDAR