BEGIN:VCALENDAR
VERSION:2.0
PRODID:-//wp-events-plugin.com//6.4.10//EN
TZID:Europe/Vienna
X-WR-TIMEZONE:Europe/Vienna
BEGIN:VEVENT
UID:1260@verkehrsakademie.at
DTSTART;TZID=Europe/Vienna:20200731T120000
DTEND;TZID=Europe/Vienna:20200731T120000
DTSTAMP:20200518T131334Z
URL:https://www.verkehrsakademie.at/events/6-vsf-ausschreibung-schwer-verk
 ehr-sicher/
SUMMARY:6. VSF-Ausschreibung „schwer – Verkehr – sicher!“
DESCRIPTION:In den vergangenen Jahren haben sich in Österreich tragische U
 nfälle insbesondere mit Zufußgehenden und Radfahrenden unter LKW-Beteili
 gung ereignet. Die sechste Ausschreibung des beim BMK eingerichteten Öste
 rreichischen Verkehrssicherheitsfonds (VSF) setzt als eine der Maßnahmen 
 des Österreichischen Regierungsprogramms 2020–2024 auf innovative Lösu
 ngen zur Verbesserung der Sicherheit des Schwerverkehrs (LKW und Busse &gt
 \; 3\,5 t HZG).\n\nInformationen\n\n&nbsp\;
CATEGORIES:Ausschreibungen
END:VEVENT
BEGIN:VTIMEZONE
TZID:Europe/Vienna
X-LIC-LOCATION:Europe/Vienna
BEGIN:DAYLIGHT
DTSTART:20200329T030000
TZOFFSETFROM:+0100
TZOFFSETTO:+0200
TZNAME:CEST
END:DAYLIGHT
END:VTIMEZONE
END:VCALENDAR