BEGIN:VCALENDAR
VERSION:2.0
PRODID:-//wp-events-plugin.com//6.4.10//EN
TZID:Europe/Vienna
X-WR-TIMEZONE:Europe/Vienna
BEGIN:VEVENT
UID:351@verkehrsakademie.at
DTSTART;TZID=Europe/Vienna:20160928T000000
DTEND;TZID=Europe/Vienna:20160928T120000
DTSTAMP:20160812T131902Z
URL:https://www.verkehrsakademie.at/events/7-ausschreibung-mobilitaet-der-
 zukunft-guetermobilitaet/
SUMMARY:7. Ausschreibung „Mobilität der Zukunft“ - Gütermobilität
DESCRIPTION:Hier werden Forschungs- und Entwicklungsprojekte (kP) sowie Son
 dierungen (S) zu diesen und Innovationsnetzwerke (IN) zu ausgewählten For
 schungsthemen aus der FTI-Roadmap Gütermobilität gesucht\, die mittel- b
 is längerfristig wesentliche Lösungsbeiträge für ganzheitliche Lösung
 en im Bereich der Mobilität der Zukunft im Interessensausgleich zwischen 
 Gesellschaft\, Umwelt und Wirtschaft erwarten lassen.\n\nInformation
CATEGORIES:Ausschreibungen
END:VEVENT
BEGIN:VTIMEZONE
TZID:Europe/Vienna
X-LIC-LOCATION:Europe/Vienna
BEGIN:DAYLIGHT
DTSTART:20160327T030000
TZOFFSETFROM:+0100
TZOFFSETTO:+0200
TZNAME:CEST
END:DAYLIGHT
END:VTIMEZONE
END:VCALENDAR