BEGIN:VCALENDAR
VERSION:2.0
PRODID:-//wp-events-plugin.com//6.4.10//EN
TZID:Europe/Vienna
X-WR-TIMEZONE:Europe/Vienna
BEGIN:VEVENT
UID:353@verkehrsakademie.at
DTSTART;TZID=Europe/Vienna:20161006T000000
DTEND;TZID=Europe/Vienna:20161006T120000
DTSTAMP:20160812T131721Z
URL:https://www.verkehrsakademie.at/events/8-ausschreibung-leuchttuerme-de
 r-elektromobilitaet-des-klima-und-energiefonds/
SUMMARY:8. Ausschreibung „Leuchttürme der Elektromobilität“ des Klima
 - und Energiefonds
DESCRIPTION:Die 8. Ausschreibung der „Leuchttürme der Elektromobilität
 “ zielt mit dem Schwerpunkt „Low-Emission/Low-Cost Industrial Producti
 on for Electromobility“ auf eine deutliche\, mindestens 10%ige Senkung d
 er Herstellungskosten von Elektrofahrzeug- oder Ladeinfrastrukturkomponent
 en ab\, um damit zu einer beschleunigten Nutzung von Elektromobilität bei
 zutragen. Daneben zielt die Ausschreibung mit dem zweiten Schwerpunkt „E
 lectrified Special Vehicles“ auf den verstärkten Einsatz von elektrifiz
 ierten und teilelektrifizierten\nFahrzeugen für Spezialanwendungen\, wie 
 in der Bauwirtschaft\, Land- und Tourismuswirtschaft\, im Freizeit- und ko
 mmunalen Bereich\, auf Flughäfen und Bahnhöfen\, im industriellen Umfeld
  und Transportbereich etc.\, ab. Ein weiteres Ziel der Ausschreibung ist d
 ie Einbeziehung von Klein- und Mittelunternehmen (KMU) oder Start-ups in d
 ie Projekte.\n\nInformation
CATEGORIES:Ausschreibungen
END:VEVENT
BEGIN:VTIMEZONE
TZID:Europe/Vienna
X-LIC-LOCATION:Europe/Vienna
BEGIN:DAYLIGHT
DTSTART:20160327T030000
TZOFFSETFROM:+0100
TZOFFSETTO:+0200
TZNAME:CEST
END:DAYLIGHT
END:VTIMEZONE
END:VCALENDAR