BEGIN:VCALENDAR
VERSION:2.0
PRODID:-//wp-events-plugin.com//6.4.10//EN
TZID:Europe/Vienna
X-WR-TIMEZONE:Europe/Vienna
BEGIN:VEVENT
UID:836@verkehrsakademie.at
DTSTART;TZID=Europe/Vienna;VALUE=DATE:20181113
DTEND;TZID=Europe/Vienna;VALUE=DATE:20181115
DTSTAMP:20180320T103905Z
URL:https://www.verkehrsakademie.at/events/aircontact18/
SUMMARY:AIRCONTACT'18
DESCRIPTION:Aerospace Aftermarkets\nChancen &amp\; Technologien im Nachrüs
 tmarkt\n\nÜber 2.000 Milliarden USD werden in den nächsten 20 Jahren im 
 Luftfahrt-Aftermarket ausgegeben – Tendenz jährlich steigend. Wartung\,
  Reparaturen\, Nachrüstungen und Ersatzteile sind für alle Flugzeug-Segm
 ente – von der Kabine bis zum Triebwerk – von zentraler Bedeutung. Die
  AIRCONTACT’18 diskutiert mit internationalen Experten über Geschäftsm
 odelle\, Marktchancen für KMU und Veränderungen durch Digitalisierung un
 d neue Technologien.\n\nInformation
CATEGORIES:Veranstaltungen
LOCATION:Flughafen Graz\, Flughafen Graz\, Feldkirchen bei Graz\, Österrei
 ch
GEO:46.9940455;15.440131400000041
X-APPLE-STRUCTURED-LOCATION;VALUE=URI;X-ADDRESS=Flughafen Graz\, Feldkirche
 n bei Graz\, Österreich;X-APPLE-RADIUS=100;X-TITLE=Flughafen Graz:geo:46.
 9940455,15.440131400000041
END:VEVENT
BEGIN:VTIMEZONE
TZID:Europe/Vienna
X-LIC-LOCATION:Europe/Vienna
BEGIN:STANDARD
DTSTART:20181028T020000
TZOFFSETFROM:+0200
TZOFFSETTO:+0100
TZNAME:CET
END:STANDARD
END:VTIMEZONE
END:VCALENDAR