BEGIN:VCALENDAR
VERSION:2.0
PRODID:-//wp-events-plugin.com//6.4.10//EN
TZID:Europe/Vienna
X-WR-TIMEZONE:Europe/Vienna
BEGIN:VEVENT
UID:1166@verkehrsakademie.at
DTSTART;TZID=Europe/Vienna:20200317T090000
DTEND;TZID=Europe/Vienna:20200317T130000
DTSTAMP:20200117T105709Z
URL:https://www.verkehrsakademie.at/events/aktionstage-kombinierter-verkeh
 r-2020-des-bmvit-3/
SUMMARY:Aktionstage Kombinierter Verkehr 2020 des BMVIT
DESCRIPTION:Die „Aktionstage zum Kombinierter Verkehr“ des Bundesminist
 eriums für Verkehr\, Innovation und Technologie (BMVIT) bieten Transportu
 nternehmen die Möglichkeit\, sich über die Bedeutung und Trends des Komb
 inierten Verkehrs und über diesbezügliche Fördermöglichkeiten zu infor
 mieren sowie sich mit Expertinnen und Experten auszutauschen.\n\nInformati
 on
CATEGORIES:Veranstaltungen
LOCATION:Wirtschaftskammer Steiermark\, Körblergasse 111-113\, Graz\, 8010
 \, Österreich
GEO:47.0873956;15.438640299999974
X-APPLE-STRUCTURED-LOCATION;VALUE=URI;X-ADDRESS=Körblergasse 111-113\, Gra
 z\, 8010\, Österreich;X-APPLE-RADIUS=100;X-TITLE=Wirtschaftskammer Steier
 mark:geo:47.0873956,15.438640299999974
END:VEVENT
BEGIN:VTIMEZONE
TZID:Europe/Vienna
X-LIC-LOCATION:Europe/Vienna
BEGIN:STANDARD
DTSTART:20191027T020000
TZOFFSETFROM:+0200
TZOFFSETTO:+0100
TZNAME:CET
END:STANDARD
END:VTIMEZONE
END:VCALENDAR