BEGIN:VCALENDAR
VERSION:2.0
PRODID:-//wp-events-plugin.com//6.4.10//EN
TZID:Europe/Vienna
X-WR-TIMEZONE:Europe/Vienna
BEGIN:VEVENT
UID:1169@verkehrsakademie.at
DTSTART;TZID=Europe/Vienna:20200421T090000
DTEND;TZID=Europe/Vienna:20200421T130000
DTSTAMP:20200117T111005Z
URL:https://www.verkehrsakademie.at/events/aktionstage-kombinierter-verkeh
 r-2020-des-bmvit-6/
SUMMARY:Aktionstage Kombinierter Verkehr 2020 des BMVIT
DESCRIPTION:Die „Aktionstage zum Kombinierter Verkehr“ des Bundesminist
 eriums für Verkehr\, Innovation und Technologie (BMVIT) bieten Transportu
 nternehmen die Möglichkeit\, sich über die Bedeutung und Trends des Komb
 inierten Verkehrs und über diesbezügliche Fördermöglichkeiten zu infor
 mieren sowie sich mit Expertinnen und Experten auszutauschen.\n\nInformati
 on
CATEGORIES:Veranstaltungen
LOCATION:Wirtschaftskammer Kärnten\, Europaplatz 1\, Klagenfurt\, Österre
 ich
GEO:46.6179274;14.311483100000032
X-APPLE-STRUCTURED-LOCATION;VALUE=URI;X-ADDRESS=Europaplatz 1\, Klagenfurt\
 , Österreich;X-APPLE-RADIUS=100;X-TITLE=Wirtschaftskammer Kärnten:geo:46
 .6179274,14.311483100000032
END:VEVENT
BEGIN:VTIMEZONE
TZID:Europe/Vienna
X-LIC-LOCATION:Europe/Vienna
BEGIN:DAYLIGHT
DTSTART:20200329T030000
TZOFFSETFROM:+0100
TZOFFSETTO:+0200
TZNAME:CEST
END:DAYLIGHT
END:VTIMEZONE
END:VCALENDAR