BEGIN:VCALENDAR
VERSION:2.0
PRODID:-//wp-events-plugin.com//6.4.10//EN
TZID:Europe/Vienna
X-WR-TIMEZONE:Europe/Vienna
BEGIN:VEVENT
UID:1581@verkehrsakademie.at
DTSTART;TZID=Europe/Vienna:20241002T090000
DTEND;TZID=Europe/Vienna:20241002T170000
DTSTAMP:20240606T121356Z
URL:https://www.verkehrsakademie.at/events/asset-management-herausforderun
 gen-bei-der-verkehrsinfrastruktur/
SUMMARY:ASSET-Management - Herausforderungen bei der Instandhaltung der Ver
 kehrsinfrastruktur
DESCRIPTION:Die ÖVG-Veranstaltung findet am 2. Oktober 2024 im Austro Towe
 r statt.\n\nWeitere Informationen\n\n&nbsp\;
CATEGORIES:Veranstaltungen
END:VEVENT
BEGIN:VTIMEZONE
TZID:Europe/Vienna
X-LIC-LOCATION:Europe/Vienna
BEGIN:DAYLIGHT
DTSTART:20240331T030000
TZOFFSETFROM:+0100
TZOFFSETTO:+0200
TZNAME:CEST
END:DAYLIGHT
END:VTIMEZONE
END:VCALENDAR