BEGIN:VCALENDAR
VERSION:2.0
PRODID:-//wp-events-plugin.com//6.4.10//EN
TZID:Europe/Vienna
X-WR-TIMEZONE:Europe/Vienna
BEGIN:VEVENT
UID:977@verkehrsakademie.at
DTSTART;TZID=Europe/Vienna:20181001T170000
DTEND;TZID=Europe/Vienna:20181017T210000
DTSTAMP:20180524T125550Z
URL:https://www.verkehrsakademie.at/events/ausbildung-am-lauf-bock-und-por
 talkran-sowie-saeulendreh-und-wandschwenkkran-6/
SUMMARY:Ausbildung am Lauf-\, Bock- und  Portalkran sowie Säulendreh- und 
  Wandschwenkkran
DESCRIPTION:Wir vermitteln Ihnen die Fachkenntnisse\, die gemäß § 6 der 
 Fachkenntnisverordnung des Bundesministeriums für Wirtschaft und Arbeit\,
  BGBl. II Nr. 13/200\, zum Führen von Lauf-\, Bock- und Portalkranen\, S
 äulendreh- und Wandschwenkkranen notwendig sind. Sie eignen sich die Fach
 kenntnisse\, die gemäß § 6 der Fachkenntnisverordnung des Bundesministe
 riums für Wirtschaft und Arbeit\, BGBl. II Nr. 13/2007\, zum Führen von 
 Lauf-\, Bock- und Portalkränen\, Säulendreh- und Wandschwenkkränen notw
 endig sind\, an.\n\nIdeal für: Personen\, die das 18. Lebensjahr erreicht
  haben und die Kranprüfung ablegen möchten. Fremdsprachige Teilnehmer/-i
 nnen müssen über ausreichende Kenntnisse der deutschen Sprache verfügen
 .\n\nInhalt: Grundbegriffe der Mechanik\, Elektrotechnik sowie der Hydraul
 ik – Aufbau und Arbeitsweise – mechanische\, elektrische und hydraulis
 che Ausrüstung – Standsicherheit – Einsatzplan und Kranbetrieb – Tr
 agmittel und Lastaufnahmemittel – Sicherheitsvorschriften und Richtlinie
 n für den Kranbetrieb – Wartung – praktische Bedienung.\n\nHinweis: K
 ursorte: Theorie: Mo\, Mi im WIFI Wien\, Praxis: Fr\, Fa. PORR\, 7. Haideq
 uerstraße 1\, 1110 Wien.\nMindestanwesenheit: 21 Lehreinheiten. Firmenint
 erne Schulungen sind möglich!\n\nAbschluss: Im Anschluss an die Veranstal
 tung wird im Beisein der Behörde eine Prüfung abgelegt. Anmeldung zur Pr
 üfung (Buchungs-Nr. 95702) ist erforderlich. Prüfungsgebühr: € 60.\n\
 n&nbsp\;
CATEGORIES:Weiterbildung
LOCATION:WIFI Wien\, Währinger Gürtel 97\, Wien\, Österreich\, 1180\, Wi
 en\, Österreich
GEO:48.2266139;16.34884169999998
X-APPLE-STRUCTURED-LOCATION;VALUE=URI;X-ADDRESS=Währinger Gürtel 97\, Wie
 n\, Österreich\, 1180\, Wien\, Österreich;X-APPLE-RADIUS=100;X-TITLE=WIF
 I Wien:geo:48.2266139,16.34884169999998
END:VEVENT
BEGIN:VTIMEZONE
TZID:Europe/Vienna
X-LIC-LOCATION:Europe/Vienna
BEGIN:DAYLIGHT
DTSTART:20180325T030000
TZOFFSETFROM:+0100
TZOFFSETTO:+0200
TZNAME:CEST
END:DAYLIGHT
END:VTIMEZONE
END:VCALENDAR