BEGIN:VCALENDAR
VERSION:2.0
PRODID:-//wp-events-plugin.com//6.4.10//EN
TZID:Europe/Vienna
X-WR-TIMEZONE:Europe/Vienna
BEGIN:VEVENT
UID:874@verkehrsakademie.at
DTSTART;TZID=Europe/Vienna:20181015T090000
DTEND;TZID=Europe/Vienna:20181017T170000
DTSTAMP:20180523T135520Z
URL:https://www.verkehrsakademie.at/events/ausbildung-zum-drohnenpiloten-v
 orbereitung-befaehigungsnachweis-drohnenpilotenschein/
SUMMARY:Ausbildung zum Drohnenpiloten -  Vorbereitung Befähigungsnachweis 
  (Drohnenpilotenschein)
DESCRIPTION:Ziel: Sie vertiefen Ihre technischen und rechtlichen Kenntnisse
  über Drohnen und bereiten sich auf die Prüfung Luftfahrtrecht (Drohnenp
 ilotenschein) vor.\n\nIdeal für: Gewerbliche Nutzer/-innen von Drohnenflu
 gtechnik wie Fotografen/-innen\, Luftfilmer/-innen und alle\, die Drohnen 
 zur Überprüfung von Anlagen und Gebäuden einsetzen (Energie- und Teleko
 mmunikationsunternehmen\, Windparkbetreiber\, Baufirmen usw.)\n\nInhalt: A
 ufbau einer Drohne\, Genehmigung C/D-Kategorie - dicht besiedeltes Gebiet\
 , Foto &amp\; Videotipps\, Drohneneinstellung\, Kompasskalibrierung\, Flug
 modi\, diverse automatisierte Flüge\, Belegung Fernbedienung. Vorbereitun
 g auf die Prüfung Luftfahrtrecht (Drohnenpilotenschein) mit Flugübungen.
CATEGORIES:Weiterbildung
LOCATION:WIFI Wien\, Währinger Gürtel 97\, Wien\, Österreich\, 1180\, Wi
 en\, Österreich
GEO:48.2266139;16.34884169999998
X-APPLE-STRUCTURED-LOCATION;VALUE=URI;X-ADDRESS=Währinger Gürtel 97\, Wie
 n\, Österreich\, 1180\, Wien\, Österreich;X-APPLE-RADIUS=100;X-TITLE=WIF
 I Wien:geo:48.2266139,16.34884169999998
END:VEVENT
BEGIN:VTIMEZONE
TZID:Europe/Vienna
X-LIC-LOCATION:Europe/Vienna
BEGIN:DAYLIGHT
DTSTART:20180325T030000
TZOFFSETFROM:+0100
TZOFFSETTO:+0200
TZNAME:CEST
END:DAYLIGHT
END:VTIMEZONE
END:VCALENDAR