BEGIN:VCALENDAR
VERSION:2.0
PRODID:-//wp-events-plugin.com//6.4.10//EN
TZID:Europe/Vienna
X-WR-TIMEZONE:Europe/Vienna
BEGIN:VEVENT
UID:877@verkehrsakademie.at
DTSTART;TZID=Europe/Vienna:20181105T170000
DTEND;TZID=Europe/Vienna:20190506T210000
DTSTAMP:20180523T140515Z
URL:https://www.verkehrsakademie.at/events/ausbildung-zum-zur-fahrlehrer-i
 n-abschnitt-1-12-mit-praxis-i-und-ii/
SUMMARY:Ausbildung  zum/zur Fahrlehrer/-in (Abschnitt 1-12)  mit Praxis I u
 nd II
DESCRIPTION:Ziel: Sie werden zum/zur Fahrlehrer/-in der Klasse B ausgebilde
 t.\n\nIdeal für: Absolventen/-innen des Fahrlehrer-Einführungskurses (Bu
 chungs-Nr. 94227)\, die innerhalb der letzten 5 Jahre vor dem Zeitpunkt de
 r abzulegenden Prüfung mindestens 3 Jahre Fahrzeuge der angesuchten Fahrz
 euggruppe ohne nennenswerte Anstände gelenkt haben und dies nachweisen k
 önnen. Voraussetzung für den Kursbesuch ist der absolvierte Fahrlehrer-E
 inführungskurs!\n\nInhalt: Lehrplan der Fahrlehrerausbildungs-VO lt. Anla
 ge 10d zu § 64c\, Abs. 11 der KDV – Tests in Pädagogik I und Berufsrec
 ht.\n\nHinweis: In diesem Fahrlehrerkurs ist die Praxis I und II enthalten
 . Die praktische und theoretische Ausbildung A\, C\, D und E ist in diesem
  Kurs nicht enthalten. Diese Zusatzausbildungen werden in den Fahrlehrerku
 rsen mit den Buchungs-Nr. 94235\, 94236\, 94237 und 94238 angeboten. Nähe
 re Auskünfte über rechtliche Voraussetzungen für die Fahrlehrerprüfung
  erteilt die Fachgruppe der Kraftfahrschulen\, 1041 Wien\, Schwarzenbergpl
 atz 14\, Tel. 01 514 50-3566 oder 3567 oder Herr Ing. Mohaupt\, Tel. 01 53
 3 55 67\, bzw. Herr Dr. Bartl.
CATEGORIES:Weiterbildung
LOCATION:WIFI Wien\, Währinger Gürtel 97\, Wien\, Österreich\, 1180\, Wi
 en\, Österreich
GEO:48.2266139;16.34884169999998
X-APPLE-STRUCTURED-LOCATION;VALUE=URI;X-ADDRESS=Währinger Gürtel 97\, Wie
 n\, Österreich\, 1180\, Wien\, Österreich;X-APPLE-RADIUS=100;X-TITLE=WIF
 I Wien:geo:48.2266139,16.34884169999998
END:VEVENT
BEGIN:VTIMEZONE
TZID:Europe/Vienna
X-LIC-LOCATION:Europe/Vienna
BEGIN:STANDARD
DTSTART:20181028T020000
TZOFFSETFROM:+0200
TZOFFSETTO:+0100
TZNAME:CET
END:STANDARD
BEGIN:DAYLIGHT
DTSTART:20190331T030000
TZOFFSETFROM:+0100
TZOFFSETTO:+0200
TZNAME:CEST
END:DAYLIGHT
END:VTIMEZONE
END:VCALENDAR