BEGIN:VCALENDAR
VERSION:2.0
PRODID:-//wp-events-plugin.com//6.4.10//EN
TZID:Europe/Vienna
X-WR-TIMEZONE:Europe/Vienna
BEGIN:VEVENT
UID:94@verkehrsakademie.at
DTSTART;TZID=Europe/Vienna:20151031T000000
DTEND;TZID=Europe/Vienna:20151031T120000
DTSTAMP:20150813T071453Z
URL:https://www.verkehrsakademie.at/events/ausschreibung-zu-industrienahe-
 dissertationen-2015/
SUMMARY:Ausschreibung zu „Industrienahe Dissertationen 2015“
DESCRIPTION:Gesucht werden Dissertationen mit einem naturwissenschaftlichen
  bzw. technischen Fokus\, die im Rahmen eines F&amp\;E-Projektes in Untern
 ehmen oder außeruniversitären  Forschungseinrichtungen umgesetzt werden
 . Den DissertantInnen muss mindestens die Hälfte einer Vollzeitbeschäfti
 gung geboten werden. Die Dissertationsprojekte sollen DissertantInnen Eins
 tiegsmöglichkeiten in die angewandte Forschung bieten.\n\nBesonders erwü
 nscht sind Dissertationsprojekte in den strategischen Bereichen Mobilität
 \, Produktion\, Informations- und Kommunikationstechnologien (IKT) und Ene
 rgie.\n\nDie wichtigsten Infos:\n• Förderung bis zu max. 100.000 EUR p
 ro Dissertationsprojekt\n• Max. 50% Förderung\n• Projektdauer:  mi
 nd. 24 Monate bis max. 36 Monate\n• Laufende Einreichung von 04.05.2015
  bis 31.10.2016\, 12:00 Uhr möglich. - Sind die Förderungsmittel vor die
 sem Einreichschluss ausgeschöpft\, wird die Ausschreibung geschlossen.\n
 • Um speziell weibliche Studierende anzusprechen\, sind 50 Prozent der 
 Mittel für Projekte mit Dissertantinnen reserviert.\n\nDen Ausschreibungs
 leitfaden finden Sie unter: https://www.ffg.at/sites/default/files/downloa
 ds/call/ausschreibungsleitfaden_industrienahe_dissertationen_2015.pdf
CATEGORIES:Ausschreibungen
END:VEVENT
BEGIN:VTIMEZONE
TZID:Europe/Vienna
X-LIC-LOCATION:Europe/Vienna
BEGIN:STANDARD
DTSTART:20151025T020000
TZOFFSETFROM:+0200
TZOFFSETTO:+0100
TZNAME:CET
END:STANDARD
END:VTIMEZONE
END:VCALENDAR