BEGIN:VCALENDAR
VERSION:2.0
PRODID:-//wp-events-plugin.com//6.4.10//EN
TZID:Europe/Vienna
X-WR-TIMEZONE:Europe/Vienna
BEGIN:VEVENT
UID:1022@verkehrsakademie.at
DTSTART;TZID=Europe/Vienna:20180927T153000
DTEND;TZID=Europe/Vienna:20180927T180000
DTSTAMP:20180803T114220Z
URL:https://www.verkehrsakademie.at/events/automatisierte-mobilitaet-oeffe
 ntliche-hand-als-zuseher-moderator-oder-akteur/
SUMMARY:Automatisierte Mobilität – öffentliche Hand als Zuseher\, Moder
 ator oder Akteur?“
DESCRIPTION:AnachB Forum in Kooperation mit ITS Vienna Region\n\nEINLADUNG 
 AnachB Forum 2018 09 27
CATEGORIES:Veranstaltungen
LOCATION:Kommunalkredit\, Türkenstraße 9\, Wien\, Österreich
GEO:48.217159;16.361633900000015
X-APPLE-STRUCTURED-LOCATION;VALUE=URI;X-ADDRESS=Türkenstraße 9\, Wien\, 
 Österreich;X-APPLE-RADIUS=100;X-TITLE=Kommunalkredit:geo:48.217159,16.361
 633900000015
END:VEVENT
BEGIN:VTIMEZONE
TZID:Europe/Vienna
X-LIC-LOCATION:Europe/Vienna
BEGIN:DAYLIGHT
DTSTART:20180325T030000
TZOFFSETFROM:+0100
TZOFFSETTO:+0200
TZNAME:CEST
END:DAYLIGHT
END:VTIMEZONE
END:VCALENDAR