BEGIN:VCALENDAR
VERSION:2.0
PRODID:-//wp-events-plugin.com//6.4.10//EN
TZID:Europe/Vienna
X-WR-TIMEZONE:Europe/Vienna
BEGIN:VEVENT
UID:1584@verkehrsakademie.at
DTSTART;TZID=Europe/Vienna:20240717T000000
DTEND;TZID=Europe/Vienna:20240925T000000
DTSTAMP:20240918T093729Z
URL:https://www.verkehrsakademie.at/events/bei-foerderung-enin-einreichen/
SUMMARY:Bei Förderung ENIN einreichen - Einreichfrist bis 25. September 20
 24 verlängert
DESCRIPTION:Die aktuellen Ausschreibungen im ENIN-Förderprogramm (Emission
 sfreie Nutzfahrzeuge und Infrastruktur) wurden aufgrund der Notlage in wei
 ten Teilen Österreichs bis 25. September 2024 verlängert. Die 9. Ausschr
 eibung ist für N1-Fahrzeuge\, die 10. Ausschreibung für N2- und N3-Fahrz
 euge und die 11. Ausschreibung für Sonderfahrzeuge der Klassen N2 und N3 
 offen. Die Umrüstung des Antriebsstranges auf emissionsfreie Technologien
  wird auch für Fahrzeuge der Klassen N2 und N3 gefördert. Die Fördersum
 me dieser drei Ausschreibungen beträgt insgesamt 45 Mio Euro. Das Förder
 programm Emissionsfreie Nutzfahrzeuge und Infrastruktur unterstützt Unter
 nehmen bei der Flottenumstellung auf nicht-fossil betriebene Nutzfahrzeuge
  sowie bei der Errichtung der für diese Nutzfahrzeuge erforderlichen Lade
 - bzw Betankungsinfrastruktur.\n\nWeitere Informationen
CATEGORIES:Ausschreibungen
END:VEVENT
BEGIN:VTIMEZONE
TZID:Europe/Vienna
X-LIC-LOCATION:Europe/Vienna
BEGIN:DAYLIGHT
DTSTART:20240331T030000
TZOFFSETFROM:+0100
TZOFFSETTO:+0200
TZNAME:CEST
END:DAYLIGHT
END:VTIMEZONE
END:VCALENDAR