BEGIN:VCALENDAR
VERSION:2.0
PRODID:-//wp-events-plugin.com//6.4.10//EN
TZID:Europe/Vienna
X-WR-TIMEZONE:Europe/Vienna
BEGIN:VEVENT
UID:1580@verkehrsakademie.at
DTSTART;TZID=Europe/Vienna:20240403T000000
DTEND;TZID=Europe/Vienna:20240705T000000
DTSTAMP:20240604T075346Z
URL:https://www.verkehrsakademie.at/events/beim-bollmann-preis-mitmachen-b
 is-5-juli-2024/
SUMMARY:Beim Bollmann-Preis mitmachen bis 5. Juli 2024
DESCRIPTION:Nach großem Erfolg im Vorjahr verleiht die Sparte Transport un
 d Verkehr der Wirtschaftskammer Wien auch 2024 wieder den Bollmann-Preis. 
 In insgesamt vier Kategorien werden außergewöhnliche Ideen und Projekte 
 der Wiener Verkehrswirtschaft vor den Vorhang geholt. Sie konnten als Unte
 rnehmer vor kurzem Ihre CO2-Bilanz erfolgreich aufbessern? Sie bieten Ihre
 n Mitarbeitern regelmäße Fortbildungen an\, um sich weiterzuentwickeln o
 der liegt Ihnen Diversität besonders am Herzen? Zeigen Sie uns\, welchen 
 wertvollen Beitrag Sie zur Verkehrswirtschaft leisten. Der Bollmann-Preis 
 ist dem langjährigen Obmann der Bundessparte Transport und Verkehr Dkfm H
 arald Bollmann\, Vertreter des Speditionsgewerbes Wien\, gewidmet. Reichen
  Sie Ihr Projekt oder Ihre Idee bis zum 5. Juli 2024 ein.\n\nWeitere Infor
 mationen
CATEGORIES:Ausschreibungen
END:VEVENT
BEGIN:VTIMEZONE
TZID:Europe/Vienna
X-LIC-LOCATION:Europe/Vienna
BEGIN:DAYLIGHT
DTSTART:20240331T030000
TZOFFSETFROM:+0100
TZOFFSETTO:+0200
TZNAME:CEST
END:DAYLIGHT
END:VTIMEZONE
END:VCALENDAR