BEGIN:VCALENDAR
VERSION:2.0
PRODID:-//wp-events-plugin.com//6.4.10//EN
TZID:Europe/Vienna
X-WR-TIMEZONE:Europe/Vienna
BEGIN:VEVENT
UID:72@verkehrsakademie.at
DTSTART;TZID=Europe/Vienna:20150824T080000
DTEND;TZID=Europe/Vienna:20150828T163000
DTSTAMP:20150828T065840Z
URL:https://www.verkehrsakademie.at/events/c95-gesamtausbildung-gleichzeit
 ig-1-teil-d-95-weiterbildung/
SUMMARY:C95-Gesamtausbildung gleichzeitig 1. Teil D-95 Weiterbildung
DESCRIPTION:Führerscheinbesitzer in der Personen- und/oder Güterbeförder
 ung müssen nach § 12 GWB eine 5-teilige Weiterbildung nachweisen. Diese 
 Weiterbildung (EUR 580\,- statt Einzelmodule EUR 790\,-) ist spätestens n
 ach 5 Jahren aufzufrischen. Mit diesem Kurs erfüllen Sie die Nachweispfli
 cht für alle fünf LKW-Module. Bus-Lenker müssen zusätzlich den Kurs 88
 20 besuchen.
CATEGORIES:Weiterbildung
LOCATION:WIFI Steyr\, Stelzhamerstr. 12\, Steyr\, Oberösterreich\, 4400\, 
 Österreich
GEO:48.0351408;14.40822019999996
X-APPLE-STRUCTURED-LOCATION;VALUE=URI;X-ADDRESS=Stelzhamerstr. 12\, Steyr\,
  Oberösterreich\, 4400\, Österreich;X-APPLE-RADIUS=100;X-TITLE=WIFI Stey
 r:geo:48.0351408,14.40822019999996
END:VEVENT
BEGIN:VTIMEZONE
TZID:Europe/Vienna
X-LIC-LOCATION:Europe/Vienna
BEGIN:DAYLIGHT
DTSTART:20150329T030000
TZOFFSETFROM:+0100
TZOFFSETTO:+0200
TZNAME:CEST
END:DAYLIGHT
END:VTIMEZONE
END:VCALENDAR