BEGIN:VCALENDAR
VERSION:2.0
PRODID:-//wp-events-plugin.com//6.4.10//EN
TZID:Europe/Vienna
X-WR-TIMEZONE:Europe/Vienna
BEGIN:VEVENT
UID:780@verkehrsakademie.at
DTSTART;TZID=Europe/Vienna;VALUE=DATE:20171129
DTEND;TZID=Europe/Vienna;VALUE=DATE:20171130
DTSTAMP:20171012T105647Z
URL:https://www.verkehrsakademie.at/events/cmr-workshop-5/
SUMMARY:CMR-Workshop
DESCRIPTION:Haftung und Anwendung\n\n 	Versender und Transporteure: Haftung
  und Schutz vor behördlichen Sanktionen\n 	Frachtbriefe richtig ausfülle
 n\n 	Transportschäden - wer haftet?\n\nInkl. Praxishandbuch "Transportrec
 ht" mit CMR-Bestimmungen!CMR_Betriebskontrollen
CATEGORIES:Veranstaltungen,Weiterbildung
LOCATION:Hotel Ibis Wien Mariahilf\, Mariahilfer Gürtel 22-24\, Wien\, 106
 0\, Österreich
GEO:48.19319;16.339316
X-APPLE-STRUCTURED-LOCATION;VALUE=URI;X-ADDRESS=Mariahilfer Gürtel 22-24\,
  Wien\, 1060\, Österreich;X-APPLE-RADIUS=100;X-TITLE=Hotel Ibis Wien Mari
 ahilf:geo:48.19319,16.339316
END:VEVENT
BEGIN:VTIMEZONE
TZID:Europe/Vienna
X-LIC-LOCATION:Europe/Vienna
BEGIN:STANDARD
DTSTART:20171029T020000
TZOFFSETFROM:+0200
TZOFFSETTO:+0100
TZNAME:CET
END:STANDARD
END:VTIMEZONE
END:VCALENDAR