BEGIN:VCALENDAR
VERSION:2.0
PRODID:-//wp-events-plugin.com//6.4.10//EN
TZID:Europe/Vienna
X-WR-TIMEZONE:Europe/Vienna
BEGIN:VEVENT
UID:164@verkehrsakademie.at
DTSTART;TZID=Europe/Vienna;VALUE=DATE:20160510
DTEND;TZID=Europe/Vienna;VALUE=DATE:20160511
DTSTAMP:20151222T091258Z
URL:https://www.verkehrsakademie.at/events/cmr-workshop/
SUMMARY:CMR-Workshop
DESCRIPTION:CMR: Haftung &amp\; Anwendung\n\n	Versender und Transporteure: 
 Haftung und Schutz vor behördlichen Sanktionen\n	Frachtbriefe richtig aus
 füllen\n	Transportschäden -wer haftet?\n\nNähere Informationen\n\n&nbsp
 \;\n\n&nbsp\;
CATEGORIES:Veranstaltungen
LOCATION:Hotel Ibis Wien Mariahilf\, Mariahilfer Gürtel 22-24\, Wien\, 106
 0\, Österreich
GEO:48.19319;16.339316
X-APPLE-STRUCTURED-LOCATION;VALUE=URI;X-ADDRESS=Mariahilfer Gürtel 22-24\,
  Wien\, 1060\, Österreich;X-APPLE-RADIUS=100;X-TITLE=Hotel Ibis Wien Mari
 ahilf:geo:48.19319,16.339316
END:VEVENT
BEGIN:VTIMEZONE
TZID:Europe/Vienna
X-LIC-LOCATION:Europe/Vienna
BEGIN:DAYLIGHT
DTSTART:20160327T030000
TZOFFSETFROM:+0100
TZOFFSETTO:+0200
TZNAME:CEST
END:DAYLIGHT
END:VTIMEZONE
END:VCALENDAR