BEGIN:VCALENDAR
VERSION:2.0
PRODID:-//wp-events-plugin.com//6.4.10//EN
TZID:Europe/Vienna
X-WR-TIMEZONE:Europe/Vienna
BEGIN:VEVENT
UID:1023@verkehrsakademie.at
DTSTART;TZID=Europe/Vienna:20181009T090000
DTEND;TZID=Europe/Vienna:20181009T180000
DTSTAMP:20180803T114817Z
URL:https://www.verkehrsakademie.at/events/danube-region-business-forum/
SUMMARY:Danube Region Business Forum
DESCRIPTION:\n\n\n\n\n\n\nDer Donauraum zählt zu den traditionell wichtige
 n Märkten für österreichische und europäische Unternehmen. Dabei entsp
 richt die Infrastruktur dieser Region noch nicht den Erfordernissen der Wi
 rtschaft. Die europäische Kommission unterstützt die Verbesserung der wi
 rtschaftlichen Rahmenbedingungen und beabsichtigt im bevorstehenden Hausha
 lt 2021 - 2027 unter der Fazilität "Connecting Europe" daher auch einen T
 eil der Mittel für Infrastrukturinvestitionen in Höhe von insgesamt 42\,
 3 Mrd. Euro und unter "InvestEU" in Form von Garantien in der Höhe von 3
 8 Mrd. Euro in den Bereichen Verkehr\, Energie und Digitales für eine Ve
 rbesserung der Infrastruktur im Donauraum zur Verfügung zu stellen.\n\nIn
 formation\n\n\n\n\n\n\n
CATEGORIES:Veranstaltungen
LOCATION:Wirtschaftskammer Österreich\, Wiedner Hauptstraße 63\, Wien\, 1
 045\, Österreich
GEO:48.1904241;16.36678710000001
X-APPLE-STRUCTURED-LOCATION;VALUE=URI;X-ADDRESS=Wiedner Hauptstraße 63\, W
 ien\, 1045\, Österreich;X-APPLE-RADIUS=100;X-TITLE=Wirtschaftskammer Öst
 erreich:geo:48.1904241,16.36678710000001
END:VEVENT
BEGIN:VTIMEZONE
TZID:Europe/Vienna
X-LIC-LOCATION:Europe/Vienna
BEGIN:DAYLIGHT
DTSTART:20180325T030000
TZOFFSETFROM:+0100
TZOFFSETTO:+0200
TZNAME:CEST
END:DAYLIGHT
END:VTIMEZONE
END:VCALENDAR