BEGIN:VCALENDAR
VERSION:2.0
PRODID:-//wp-events-plugin.com//6.4.10//EN
TZID:Europe/Vienna
X-WR-TIMEZONE:Europe/Vienna
BEGIN:VEVENT
UID:1228@verkehrsakademie.at
DTSTART;TZID=Europe/Vienna:20200616T090000
DTEND;TZID=Europe/Vienna:20200616T170000
DTSTAMP:20200213T120128Z
URL:https://www.verkehrsakademie.at/events/das-allgemeine-ursprungszeugnis
 /
SUMMARY:Das allgemeine Ursprungszeugnis
DESCRIPTION:Erfahren Sie in diesem Seminar alles Wichtige über die nicht-
 präferenziellen Ursprungsregeln - deren Funtkion\, Rechtsgrundlagen un
 d Sonderfälle. Der nichtpräferenzielle Ursprung dient Staaten weltwei
 t als rechtliche Grundlage\, um handels- oder ordnungspolitische Maßnahme
 n durchsetzen zu können. Liegt bei der Einfuhrverzollung kein Ursprungs
 zeugnis vor\, so kann die Ware nicht importiert werden. Bis zum Nachreic
 hen des Dokuments muss die Ware mit zum Teil erheblichen Kosten von der Z
 ollverwaltung eingelagert werden.\n\nManche Importstaaten verlangen Urspr
 ungszeugnisse nur für bestimmte Warengruppen\, andere Länder bestehen g
 enerell darauf. Erfahren Sie in diesem Seminar alles Wichtige über die 
 nicht-präferenziellen Ursprungsregeln:\n\nArbeitsschwerpunkte:\nFunktion 
 (Unterschied zum präferenziellen Bereich)\nIn welchen Fällen benötigt m
 an ein allgemeines Ursprungszeugnis\nRechtsgrundlagen\nNicht-präferenziel
 le Ursprungsregeln\nSonderfälle der Ursprungsbestimmung\nKorrektes Ausfü
 llen der Formulare\nVorzulegende Nachweise\nDas elektronsiche Ursprungsz
 eugnis\n\n\nZielgruppen:\nLeiter und Mitarbeiter von Zoll- und Exportabtei
 lungen\nAngestellte im Speditionsbereich\n\nDas allgemeine_Ursprungszeugni
 s
CATEGORIES:Veranstaltungen,Weiterbildung
LOCATION:Austria Trend Hotel Salzburg West\, \, Österreich
GEO:47.792133;12.989474
X-APPLE-STRUCTURED-LOCATION;VALUE=URI;X-ADDRESS=\, Österreich;X-APPLE-RADI
 US=100;X-TITLE=Austria Trend Hotel Salzburg West:geo:47.792133,12.989474
END:VEVENT
BEGIN:VTIMEZONE
TZID:Europe/Vienna
X-LIC-LOCATION:Europe/Vienna
BEGIN:DAYLIGHT
DTSTART:20200329T030000
TZOFFSETFROM:+0100
TZOFFSETTO:+0200
TZNAME:CEST
END:DAYLIGHT
END:VTIMEZONE
END:VCALENDAR