BEGIN:VCALENDAR
VERSION:2.0
PRODID:-//wp-events-plugin.com//6.4.10//EN
TZID:Europe/Vienna
X-WR-TIMEZONE:Europe/Vienna
BEGIN:VEVENT
UID:1019@verkehrsakademie.at
DTSTART;TZID=Europe/Vienna:20180910T090000
DTEND;TZID=Europe/Vienna:20180910T130000
DTSTAMP:20180726T123230Z
URL:https://www.verkehrsakademie.at/events/das-digitale-kontrollgeraet-ric
 htig-bedienen/
SUMMARY:Das Digitale Kontrollgerät richtig bedienen
DESCRIPTION:Lenker\, Unternehmer (Fahrzeugbetreiber) und Flottenmanagement 
 sind gefordert\, die Funktionen des digitalen Tachographen ordnungsgemäß
  zu beherrschen\, Ausdrucke richtig zu interpretieren und Daten entspreche
 nd zu sichern. Ein Schulungsangebot über die ordnungsgemäße Benutzung d
 es digitalen Kontrollgerätes (Ausdrucke\, Piktogramme\, manuelles Nachtra
 gen der Lenk-\, Arbeits- und Ruhezeiten)\, die zugrundeliegenden gesetzlic
 hen Bestimmungen und Verpflichtungen\, die Benützung der Fahrerkarte /EU-
 Formblatt samt praxisnaher Bedienung (Demogeräten) soll helfen\, Strafen 
 zu vermeiden. Träger ist der Fachverband Güterbeförderung in Kooperatio
 n mit Continental.\n\nInfo Schulung Digitales Kontrollgerät
CATEGORIES:Weiterbildung
LOCATION:Continental Automotive Trading Österreich GmbH\, Flachgasse 54-58
 \, Wien\, 1150\, Österreich
GEO:48.1985209;16.31542509999997
X-APPLE-STRUCTURED-LOCATION;VALUE=URI;X-ADDRESS=Flachgasse 54-58\, Wien\, 1
 150\, Österreich;X-APPLE-RADIUS=100;X-TITLE=Continental Automotive Tradin
 g Österreich GmbH:geo:48.1985209,16.31542509999997
END:VEVENT
BEGIN:VTIMEZONE
TZID:Europe/Vienna
X-LIC-LOCATION:Europe/Vienna
BEGIN:DAYLIGHT
DTSTART:20180325T030000
TZOFFSETFROM:+0100
TZOFFSETTO:+0200
TZNAME:CEST
END:DAYLIGHT
END:VTIMEZONE
END:VCALENDAR