BEGIN:VCALENDAR
VERSION:2.0
PRODID:-//wp-events-plugin.com//6.4.10//EN
TZID:Europe/Vienna
X-WR-TIMEZONE:Europe/Vienna
BEGIN:VEVENT
UID:1020@verkehrsakademie.at
DTSTART;TZID=Europe/Vienna;VALUE=DATE:20181011
DTEND;TZID=Europe/Vienna;VALUE=DATE:20181013
DTSTAMP:20180726T134517Z
URL:https://www.verkehrsakademie.at/events/die-bedeutung-des-oesterreichis
 chen-eisenbahnsektors/
SUMMARY:Die Bedeutung des österreichischen Eisenbahnsektors
DESCRIPTION:Veranstaltung im Rahmen des österreichischen Vorsitzes im Rat 
 der Europäischen Union\n\nInformation
CATEGORIES:Veranstaltungen
LOCATION:Wirtschaftskammer Wien\, Stubenring 8-10\, Wien\, 1010\, Österrei
 ch
GEO:48.2095543;16.38199420000001
X-APPLE-STRUCTURED-LOCATION;VALUE=URI;X-ADDRESS=Stubenring 8-10\, Wien\, 10
 10\, Österreich;X-APPLE-RADIUS=100;X-TITLE=Wirtschaftskammer Wien:geo:48.
 2095543,16.38199420000001
END:VEVENT
BEGIN:VTIMEZONE
TZID:Europe/Vienna
X-LIC-LOCATION:Europe/Vienna
BEGIN:DAYLIGHT
DTSTART:20180325T030000
TZOFFSETFROM:+0100
TZOFFSETTO:+0200
TZNAME:CEST
END:DAYLIGHT
END:VTIMEZONE
END:VCALENDAR