BEGIN:VCALENDAR
VERSION:2.0
PRODID:-//wp-events-plugin.com//6.4.10//EN
TZID:Europe/Vienna
X-WR-TIMEZONE:Europe/Vienna
BEGIN:VEVENT
UID:552@verkehrsakademie.at
DTSTART;TZID=Europe/Vienna:20170503T180000
DTEND;TZID=Europe/Vienna:20170503T200000
DTSTAMP:20170331T100218Z
URL:https://www.verkehrsakademie.at/events/die-optimale-versorgung-des-han
 dels-und-der-gastronomie-mit-tiefkuehlprodukten-in-oesterreich/
SUMMARY:Die optimale Versorgung des Handels und der Gastronomie mit Tiefkü
 hlprodukten in Österreich
DESCRIPTION:Vortrags- und Diskussionsveranstaltung im Rahmen des Zyklus „
 Infrastruktur“\n\nInformation
CATEGORIES:Veranstaltungen
LOCATION:Wirtschaftskammer Wien\,\, Schwarzenbergplatz 14\, Wien\, 1014\, 
 Österreich
GEO:48.1997536;16.375098699999967
X-APPLE-STRUCTURED-LOCATION;VALUE=URI;X-ADDRESS=Schwarzenbergplatz 14\, Wie
 n\, 1014\, Österreich;X-APPLE-RADIUS=100;X-TITLE=Wirtschaftskammer Wien\,
 :geo:48.1997536,16.375098699999967
END:VEVENT
BEGIN:VTIMEZONE
TZID:Europe/Vienna
X-LIC-LOCATION:Europe/Vienna
BEGIN:DAYLIGHT
DTSTART:20170326T030000
TZOFFSETFROM:+0100
TZOFFSETTO:+0200
TZNAME:CEST
END:DAYLIGHT
END:VTIMEZONE
END:VCALENDAR