BEGIN:VCALENDAR
VERSION:2.0
PRODID:-//wp-events-plugin.com//6.4.10//EN
TZID:Europe/Vienna
X-WR-TIMEZONE:Europe/Vienna
BEGIN:VEVENT
UID:871@verkehrsakademie.at
DTSTART;TZID=Europe/Vienna:20180526T090000
DTEND;TZID=Europe/Vienna:20180526T170000
DTSTAMP:20180507T131900Z
URL:https://www.verkehrsakademie.at/events/e-mobilitaetstag/
SUMMARY:e-Mobilitätstag
DESCRIPTION:Der NÖ e-Mobilitätstag geht in die vierte Runde! Das Groß-Ev
 ent am Wachau-Ring in Melk bietet die Möglichkeit alles\, was elektrisch 
 fährt zu testen! Kommen Sie vorbei und lassen sich elektrifizieren. Folge
 nde Highlights erwarten die BesucherInnen bei freiem Eintritt: 50 e-Autos 
 aller Marken auf der Rennstrecke testen\, 500 e-Fahrräder\, Pedelecs\, Fa
 tbikes &amp\; Co in der RADLand Erlebniswelt ausprobieren\, EVN Kindererle
 bniswelt für alle BesucherInnen zwischen 0 und 15 Jahren sowie Umfangreic
 hes Vortrags- und Showprogramm. Zielgruppen: Privatpersonen\, Gemeindevert
 reterInnen\, MultiplikatorInnen\, Betriebe.\n\nInformation
CATEGORIES:Veranstaltungen
LOCATION:Wachauring\, Am Wachauring 2\, Melk\, 3390\, Österreich
GEO:48.2124991;15.327815900000019
X-APPLE-STRUCTURED-LOCATION;VALUE=URI;X-ADDRESS=Am Wachauring 2\, Melk\, 33
 90\, Österreich;X-APPLE-RADIUS=100;X-TITLE=Wachauring:geo:48.2124991,15.3
 27815900000019
END:VEVENT
BEGIN:VTIMEZONE
TZID:Europe/Vienna
X-LIC-LOCATION:Europe/Vienna
BEGIN:DAYLIGHT
DTSTART:20180325T030000
TZOFFSETFROM:+0100
TZOFFSETTO:+0200
TZNAME:CEST
END:DAYLIGHT
END:VTIMEZONE
END:VCALENDAR