BEGIN:VCALENDAR
VERSION:2.0
PRODID:-//wp-events-plugin.com//6.4.10//EN
TZID:Europe/Vienna
X-WR-TIMEZONE:Europe/Vienna
BEGIN:VEVENT
UID:1482@verkehrsakademie.at
DTSTART;TZID=Europe/Vienna:20230222T090000
DTEND;TZID=Europe/Vienna:20230222T110000
DTSTAMP:20230110T070025Z
URL:https://www.verkehrsakademie.at/events/ebin-kick-off-veranstaltung-202
 3-online/
SUMMARY:EBIN Kick-off Veranstaltung 2023 - online
DESCRIPTION:Im Rahmen der online Kick-off Veranstaltung wird die dritte Aus
 schreibung zur Förderung der Anschaffung von emissionsfreien Bussen und d
 eren Infrastruktur vorgestellt.\n\nDie Teilnahme an der Veranstaltung ist 
 kostenlos. Um Anmeldung wird gebeten.\n\nWeitere Informationen
CATEGORIES:Veranstaltungen
END:VEVENT
BEGIN:VTIMEZONE
TZID:Europe/Vienna
X-LIC-LOCATION:Europe/Vienna
BEGIN:STANDARD
DTSTART:20221030T020000
TZOFFSETFROM:+0200
TZOFFSETTO:+0100
TZNAME:CET
END:STANDARD
END:VTIMEZONE
END:VCALENDAR