BEGIN:VCALENDAR
VERSION:2.0
PRODID:-//wp-events-plugin.com//6.4.10//EN
TZID:Europe/Vienna
X-WR-TIMEZONE:Europe/Vienna
BEGIN:VEVENT
UID:1429@verkehrsakademie.at
DTSTART;TZID=Europe/Vienna:20220505T000000
DTEND;TZID=Europe/Vienna:20220505T000000
DTSTAMP:20220414T062606Z
URL:https://www.verkehrsakademie.at/events/ecodriving-webinar/
SUMMARY:Ecodriving - Webinar
DESCRIPTION:Aktuell hohe Treibstoffpreise lassen die Kosten für Mobilität
  weiter steigen. Abhilfe kann hierbei Ecodriving bzw. Spritsparen schaffen
 . Dieses Webinar zeigt\, wie durch die Anwendung von Spritspar-Tipps unnö
 tiger Kraftstoffverbrauch vermieden werden kann\, um umweltfreundlicher\, 
 entspannter und vor allem günstiger fahren zu können.\n\nWeitere Informa
 tionen\n\n&nbsp\;
CATEGORIES:Veranstaltungen
END:VEVENT
BEGIN:VTIMEZONE
TZID:Europe/Vienna
X-LIC-LOCATION:Europe/Vienna
BEGIN:DAYLIGHT
DTSTART:20220327T030000
TZOFFSETFROM:+0100
TZOFFSETTO:+0200
TZNAME:CEST
END:DAYLIGHT
END:VTIMEZONE
END:VCALENDAR