BEGIN:VCALENDAR
VERSION:2.0
PRODID:-//wp-events-plugin.com//6.4.10//EN
TZID:Europe/Vienna
X-WR-TIMEZONE:Europe/Vienna
BEGIN:VEVENT
UID:1455@verkehrsakademie.at
DTSTART;TZID=Europe/Vienna:20220303T000000
DTEND;TZID=Europe/Vienna:20220902T000000
DTSTAMP:20220831T070936Z
URL:https://www.verkehrsakademie.at/events/einreichen-fuer-logistik-untern
 ehmen-2022-bis-2-9-2022/
SUMMARY:Einreichen für "Logistik-Unternehmen 2022"
DESCRIPTION:Der HERMES.Wirtschafts.Preis ist die bedeutendste Auszeichnung 
 für die Unternehmen\, die Österreichs Wirtschaft nachhaltig prägen. Im 
 Rahmen der glanzvollen „Gala der österreichischen Wirtschaft“ werden 
 am 4. November 2022 im Großen Festsaal der Wiener Hofburg wieder die HERM
 ES. Wirtschafts.Preise in acht Kategorien: DIENSTLEISTUNG\, FAMILIEN-Unter
 nehmen\, FRAUEN-geführte Unternehmen\, HANDEL\, INDUSTRIE\, INTERNATIONAL
 \, LOGISTIK\, TOURISMUS plus dem Ehrenpreis ENTREPRENEUR – Unternehmerin
  oder Unternehmer des Jahres\, sowie die Sonderpreise für EMPLOYER-BRANDI
 NG und KLIMASCHUTZ verliehen. Mit Ihrer Einreichung können Sie die Dynami
 k der österreichischen Wirtschaft auch in schwierigen Zeiten unter Beweis
  stellen.\n\nWeitere Informationen
CATEGORIES:Ausschreibungen
END:VEVENT
BEGIN:VTIMEZONE
TZID:Europe/Vienna
X-LIC-LOCATION:Europe/Vienna
BEGIN:STANDARD
DTSTART:20211031T020000
TZOFFSETFROM:+0200
TZOFFSETTO:+0100
TZNAME:CET
END:STANDARD
BEGIN:DAYLIGHT
DTSTART:20220327T030000
TZOFFSETFROM:+0100
TZOFFSETTO:+0200
TZNAME:CEST
END:DAYLIGHT
END:VTIMEZONE
END:VCALENDAR