BEGIN:VCALENDAR
VERSION:2.0
PRODID:-//wp-events-plugin.com//6.4.10//EN
TZID:Europe/Vienna
X-WR-TIMEZONE:Europe/Vienna
BEGIN:VEVENT
UID:1483@verkehrsakademie.at
DTSTART;TZID=Europe/Vienna:20230113T000000
DTEND;TZID=Europe/Vienna:20230315T000000
DTSTAMP:20230113T085357Z
URL:https://www.verkehrsakademie.at/events/el-mo-award-2023/
SUMMARY:EL-MO Award 2023
DESCRIPTION:Auch 2023 werden mit dem EL-MO Award wieder innovative Projekte
  im Bereich der E-Mobilität sowie zur CO2-Reduktion ausgezeichnet. Anerka
 nnte Experten aus dem Bereich Klima und Mobilität bilden die Jury.\n\nEin
 reichungen sind bis einschließlich 15.3.2023 möglich.\n\nWeitere Informa
 tionen
CATEGORIES:Ausschreibungen
END:VEVENT
BEGIN:VTIMEZONE
TZID:Europe/Vienna
X-LIC-LOCATION:Europe/Vienna
BEGIN:STANDARD
DTSTART:20221030T020000
TZOFFSETFROM:+0200
TZOFFSETTO:+0100
TZNAME:CET
END:STANDARD
END:VTIMEZONE
END:VCALENDAR