BEGIN:VCALENDAR
VERSION:2.0
PRODID:-//wp-events-plugin.com//6.4.10//EN
TZID:Europe/Vienna
X-WR-TIMEZONE:Europe/Vienna
BEGIN:VEVENT
UID:1458@verkehrsakademie.at
DTSTART;TZID=Europe/Vienna:20220928T000000
DTEND;TZID=Europe/Vienna:20220928T000000
DTSTAMP:20220919T073531Z
URL:https://www.verkehrsakademie.at/events/event-weiterentwicklung-der-tes
 tumgebungen-fuer-automatisierte-mobilitaet/
SUMMARY:Event: Weiterentwicklung der Testumgebungen für Automatisierte Mob
 ilität
DESCRIPTION:Das BMK und die FFG laden am 28.9.2022 um 9:30 - 11:00 Uhr her
 zlich zur Online Informationsveranstaltung zur Anfang 2023 geplanten Aussc
 hreibung zur Weiterentwicklung der Testumgebungen für Automatisierte Mobi
 lität. Dabei soll ein erster Überblick zu aktuellen Trends und künftige
 n Anforderungen gegeben werden.\n\nAgenda und Registrierungslink finden Si
 e hier.
CATEGORIES:Veranstaltungen
END:VEVENT
BEGIN:VTIMEZONE
TZID:Europe/Vienna
X-LIC-LOCATION:Europe/Vienna
BEGIN:DAYLIGHT
DTSTART:20220327T030000
TZOFFSETFROM:+0100
TZOFFSETTO:+0200
TZNAME:CEST
END:DAYLIGHT
END:VTIMEZONE
END:VCALENDAR