BEGIN:VCALENDAR
VERSION:2.0
PRODID:-//wp-events-plugin.com//6.4.10//EN
TZID:Europe/Vienna
X-WR-TIMEZONE:Europe/Vienna
BEGIN:VEVENT
UID:1571@verkehrsakademie.at
DTSTART;TZID=Europe/Vienna:20240502T000000
DTEND;TZID=Europe/Vienna:20240617T000000
DTSTAMP:20240508T115717Z
URL:https://www.verkehrsakademie.at/events/excellence-in-road-safety-award
 s-2024/
SUMMARY:Excellence in Road Safety Awards 2024
DESCRIPTION:Die Europäische Charta für Straßenverkehrssicherheit vergibt
  2024 wieder einen Preis für herausragende Leistungen im Bereich der Stra
 ßenverkehrssicherheit. Mit diesen Auszeichnungen werden herausragende Bei
 träge gewürdigt\, die Organisationen\, Behörden und Unternehmen innerha
 lb der Gemeinschaft der Europäischen Charta für die Straßenverkehrssich
 erheit zur Förderung sicherer Straßen in ganz Europa leisten. Preiskateg
 orien für 2024 sind: Bester Einsatz von Technologie und Innovation zur F
 örderung der Straßenverkehrssicherheit\, Bestes Projekt zur Förderung d
 er Verkehrssicherheit von vulnerableren Verkehrsteilnehmern wie Fußgänge
 rn und Radfahrern\, Bestes Projekt zur Förderung der Verkehrssicherheit v
 on Motorrädern\, Bestes Projekt zur Förderung der Verkehrsbildung\, Prei
 s für Verkehrssicherheit in Städten (offen für Gemeinden\, Städte und 
 Regionen). Bewerbungen werden ab jetzt angenommen.\n\nWeitere Informatione
 n
CATEGORIES:Ausschreibungen
END:VEVENT
BEGIN:VTIMEZONE
TZID:Europe/Vienna
X-LIC-LOCATION:Europe/Vienna
BEGIN:DAYLIGHT
DTSTART:20240331T030000
TZOFFSETFROM:+0100
TZOFFSETTO:+0200
TZNAME:CEST
END:DAYLIGHT
END:VTIMEZONE
END:VCALENDAR