BEGIN:VCALENDAR
VERSION:2.0
PRODID:-//wp-events-plugin.com//6.4.10//EN
TZID:Europe/Vienna
X-WR-TIMEZONE:Europe/Vienna
BEGIN:VEVENT
UID:1486@verkehrsakademie.at
DTSTART;TZID=Europe/Vienna:20230116T000000
DTEND;TZID=Europe/Vienna:20230313T000000
DTSTAMP:20230214T110234Z
URL:https://www.verkehrsakademie.at/events/exportpreis-2023/
SUMMARY:Exportpreis 2023 - bewerben bis 13.03.2023!
DESCRIPTION:Mit dem Österreichischen Exportpreis werden überdurchschnittl
 iche Engagements und Erfolge heimischer Unternehmer in ausländischen Mär
 kten bzw mit ausländischen Kunden gewürdigt. Die Unternehmen der Verkehr
 swirtschaft im Personen- und Güterverkehr liefern einen wichtigen Beitrag
 . Falls Ihre Firma erfolgreiche Aktivitäten auf Auslandsmärkten bzw mit 
 ausländischen Kunden im Inland aufweist\, dann machen Sie Ihr Unternehmen
  namhaft. Nicht die Größe des Unternehmens zählt\, sondern wichtige Erf
 olgsmerkmale wie außergewöhnliche Marketingstrategien\, Innovationskraft
  und Risikobereitschaft\, Diversifikation der Exportmärkte\, Kooperatione
 n mit inländischen und ausländischen Unternehmen oder besondere Beiträg
 e von Persönlichkeiten.\n\nWeitere Informationen
CATEGORIES:Ausschreibungen
END:VEVENT
BEGIN:VTIMEZONE
TZID:Europe/Vienna
X-LIC-LOCATION:Europe/Vienna
BEGIN:STANDARD
DTSTART:20221030T020000
TZOFFSETFROM:+0200
TZOFFSETTO:+0100
TZNAME:CET
END:STANDARD
END:VTIMEZONE
END:VCALENDAR