BEGIN:VCALENDAR
VERSION:2.0
PRODID:-//wp-events-plugin.com//6.4.10//EN
TZID:Europe/Vienna
X-WR-TIMEZONE:Europe/Vienna
BEGIN:VEVENT
UID:1443@verkehrsakademie.at
DTSTART;TZID=Europe/Vienna:20220628T000000
DTEND;TZID=Europe/Vienna:20220628T000000
DTSTAMP:20220517T120900Z
URL:https://www.verkehrsakademie.at/events/exporttag-2022-2/
SUMMARY:Exporttag 2022
DESCRIPTION:Der Exporttag ist seit 20 Jahren Österreichs größte Informat
 ions- und Netzwerksveranstaltung rund um das Thema Export und Internationa
 lisierung. Nach zwei pandemiebedingten virtuellen Exporttagen besteht endl
 ich wieder die Möglichkeit für den persönlichen Austausch und das pers
 önliche Netzwerken. Starten wir trotz der geopolitisch unsicheren Zeiten 
 gemeinsam durch\, stellen uns gemeinsam den neuen Herausforderungen und er
 öffnen gemeinsam neue Perspektiven und Chancen. Für das 20-jährige Jubi
 läum wird ein vielfältiges und spannendes Programm mit renommierten\, in
 ternationalen Speakern\, praxisnahen Panels und interaktiven Workshops run
 d um die zukunftsweisenden Themen Nachhaltigkeit und Innovation geboten. D
 er Exporttag bietet wie gewohnt die Möglichkeit\, sich persönlich mit de
 n WKÖ-Wirtschaftsdelegierten aus aller Welt auszutauschen.\n\nWeitere Inf
 ormationen
CATEGORIES:Veranstaltungen
END:VEVENT
BEGIN:VTIMEZONE
TZID:Europe/Vienna
X-LIC-LOCATION:Europe/Vienna
BEGIN:DAYLIGHT
DTSTART:20220327T030000
TZOFFSETFROM:+0100
TZOFFSETTO:+0200
TZNAME:CEST
END:DAYLIGHT
END:VTIMEZONE
END:VCALENDAR