BEGIN:VCALENDAR
VERSION:2.0
PRODID:-//wp-events-plugin.com//6.4.10//EN
TZID:Europe/Vienna
X-WR-TIMEZONE:Europe/Vienna
BEGIN:VEVENT
UID:345@verkehrsakademie.at
DTSTART;TZID=Europe/Vienna;VALUE=DATE:20161124
DTEND;TZID=Europe/Vienna;VALUE=DATE:20161126
DTSTAMP:20160728T143655Z
URL:https://www.verkehrsakademie.at/events/fahrstromanlagen/
SUMMARY:Fahrstromanlagen
DESCRIPTION:Information
CATEGORIES:Veranstaltungen
LOCATION:Festsaal der TU Wien\, Karlsplatz 13\, Wien\, 1040\, Österreich
GEO:48.1989798;16.369903900000054
X-APPLE-STRUCTURED-LOCATION;VALUE=URI;X-ADDRESS=Karlsplatz 13\, Wien\, 1040
 \, Österreich;X-APPLE-RADIUS=100;X-TITLE=Festsaal der TU Wien:geo:48.1989
 798,16.369903900000054
END:VEVENT
BEGIN:VTIMEZONE
TZID:Europe/Vienna
X-LIC-LOCATION:Europe/Vienna
BEGIN:STANDARD
DTSTART:20161030T020000
TZOFFSETFROM:+0200
TZOFFSETTO:+0100
TZNAME:CET
END:STANDARD
END:VTIMEZONE
END:VCALENDAR