BEGIN:VCALENDAR
VERSION:2.0
PRODID:-//wp-events-plugin.com//6.4.10//EN
TZID:Europe/Vienna
X-WR-TIMEZONE:Europe/Vienna
BEGIN:VEVENT
UID:973@verkehrsakademie.at
DTSTART;TZID=Europe/Vienna:20180608T130000
DTEND;TZID=Europe/Vienna:20180622T190000
DTSTAMP:20180524T124028Z
URL:https://www.verkehrsakademie.at/events/fahrzeug-und-ladekran-ueber-300
 -knm-praxisintensivkurs-6/
SUMMARY:Fahrzeug- und Ladekran über 300 kNm -  Praxisintensivkurs
DESCRIPTION:Sie üben am Fahrzeug- und Ladekran über 300 kNm und perfektio
 nieren Ihr Wissen in der Praxis.\n\nIdeal für: Personen\, die das 18. Leb
 ensjahr erreicht und die Ausbildung zum Fahrzeug- und Ladekran über 300 k
 Nm positiv abgelegt haben. Fremdsprachige Teilnehmer/-innen müssen über 
 ausreichende Kenntnisse der deutschen Sprache verfügen.\n\nInhalt: Überp
 rüfung und Inbetriebnahme des Krans - Standortwahl - zulässige Bodenpres
 sung - Achsblockierung - Abstützung - Nivellieren.\nEinsatzplanung - Ball
 astieren - Umscheren der Hakenflasche - Einstellen der Sicherheitseinricht
 ungen auf den Rüstzustand (z.B. LICCON - Computersystem).\nKranbetrieb mi
 t dem Fahrzeugkran 'Freistehend' - Zusammenlegen des Krans - Vorbereiten d
 es Krans für Überstellungen auf öffentlichen Straßen. Praktische Übun
 gen für das sichere Aufnehmen und Versetzen von Lasten - Vermeiden von Pe
 ndlern - punktgenaues Absetzen der Last - Erkennen und rasches Handeln bei
  unvorhergesehenen Ereignissen - Arbeiten aus der Krankabine bzw. mit der 
 Fernsteuerung - Arbeiten mit einem/-r Einweiser/-in - Arbeiten nach Funkei
 nweisung.\n\nHinweis: Voraussetzung: Positiv absolvierte Ausbildung zum/zu
 r Kranfahrer/-in für Fahrzeug- und Ladekrane über 300 kNm gemäß FKV.
CATEGORIES:Weiterbildung
LOCATION:WIFI Wien\, Währinger Gürtel 97\,  Wien\, Österreich\, 1180\, W
 ien\, Österreich
GEO:48.2266139;16.34884169999998
X-APPLE-STRUCTURED-LOCATION;VALUE=URI;X-ADDRESS=Währinger Gürtel 97\,  Wi
 en\, Österreich\, 1180\, Wien\, Österreich;X-APPLE-RADIUS=100;X-TITLE=WI
 FI Wien:geo:48.2266139,16.34884169999998
END:VEVENT
BEGIN:VTIMEZONE
TZID:Europe/Vienna
X-LIC-LOCATION:Europe/Vienna
BEGIN:DAYLIGHT
DTSTART:20180325T030000
TZOFFSETFROM:+0100
TZOFFSETTO:+0200
TZNAME:CEST
END:DAYLIGHT
END:VTIMEZONE
END:VCALENDAR