BEGIN:VCALENDAR
VERSION:2.0
PRODID:-//wp-events-plugin.com//6.4.10//EN
TZID:Europe/Vienna
X-WR-TIMEZONE:Europe/Vienna
BEGIN:VEVENT
UID:96@verkehrsakademie.at
DTSTART;TZID=Europe/Vienna;VALUE=DATE:20151203
DTEND;TZID=Europe/Vienna;VALUE=DATE:20151204
DTSTAMP:20151124T141446Z
URL:https://www.verkehrsakademie.at/events/forschungsforum-mobilitaet-2015
 /
SUMMARY:Forschungsforum Mobilität 2015
DESCRIPTION:Das Forschungsforum „Mobilität für Alle"  2015  findet he
 uer am 3. Dezember 2015 in Wien statt. Informiert und diskutiert wird rund
  um das Thema „Mobilität und Wohnen“.\n\nWeitere Details
CATEGORIES:Veranstaltungen
END:VEVENT
BEGIN:VTIMEZONE
TZID:Europe/Vienna
X-LIC-LOCATION:Europe/Vienna
BEGIN:STANDARD
DTSTART:20151025T020000
TZOFFSETFROM:+0200
TZOFFSETTO:+0100
TZNAME:CET
END:STANDARD
END:VTIMEZONE
END:VCALENDAR