BEGIN:VCALENDAR
VERSION:2.0
PRODID:-//wp-events-plugin.com//6.4.10//EN
TZID:Europe/Vienna
X-WR-TIMEZONE:Europe/Vienna
BEGIN:VEVENT
UID:1021@verkehrsakademie.at
DTSTART;TZID=Europe/Vienna;VALUE=DATE:20181206
DTEND;TZID=Europe/Vienna;VALUE=DATE:20181207
DTSTAMP:20180727T094256Z
URL:https://www.verkehrsakademie.at/events/forschungsforum-mobilitaet-fuer
 -alle-2018/
SUMMARY:Forschungsforum „Mobilität für Alle 2018"
DESCRIPTION:Das Forschungsforum „Mobilität für Alle" steht heuer unter 
 dem Thema „Mobilität und nachhaltige urbane Nachbarschaftsentwicklung -
  Transformation des öffentlichen Raums in Orte erhöhter Lebensqualität
 “ und dient als Informations- und Diskussionsplattform für innovative M
 obilitätsprojekte.\n\nInformation &amp\; Anmeldung
CATEGORIES:Veranstaltungen
LOCATION:Austria Trend Hotel Savoyen Vienna\, Rennweg 16\, Wien\, 1030\, Ö
 sterreich
GEO:48.1946439;16.384357000000023
X-APPLE-STRUCTURED-LOCATION;VALUE=URI;X-ADDRESS=Rennweg 16\, Wien\, 1030\, 
 Österreich;X-APPLE-RADIUS=100;X-TITLE=Austria Trend Hotel Savoyen Vienna:
 geo:48.1946439,16.384357000000023
END:VEVENT
BEGIN:VTIMEZONE
TZID:Europe/Vienna
X-LIC-LOCATION:Europe/Vienna
BEGIN:STANDARD
DTSTART:20181028T020000
TZOFFSETFROM:+0200
TZOFFSETTO:+0100
TZNAME:CET
END:STANDARD
END:VTIMEZONE
END:VCALENDAR