BEGIN:VCALENDAR
VERSION:2.0
PRODID:-//wp-events-plugin.com//6.4.10//EN
TZID:Europe/Vienna
X-WR-TIMEZONE:Europe/Vienna
BEGIN:VEVENT
UID:1459@verkehrsakademie.at
DTSTART;TZID=Europe/Vienna:20221010T000000
DTEND;TZID=Europe/Vienna:20221010T000000
DTSTAMP:20220919T073708Z
URL:https://www.verkehrsakademie.at/events/forschungsforum-mobilitaet-fuer
 -alle-2022/
SUMMARY:Forschungsforum Mobilität für Alle 2022
DESCRIPTION:Das diesjährige Forschungsforum Mobilität für Alle findet am
  10. Oktober von 10:00-17:00 Uhr im BMK Festsaal statt. Im Fokus stehen di
 e Mobilitätswende\, die dafür notwendigen gesetzlichen Rahmenbedingungen
  und die Barrierefreiheit für Menschen mit Behinderung oder mobilen Schw
 ächen.\n\nDetails zur Agenda und Registrierungslink finden Sie  hier.
CATEGORIES:Veranstaltungen
END:VEVENT
BEGIN:VTIMEZONE
TZID:Europe/Vienna
X-LIC-LOCATION:Europe/Vienna
BEGIN:DAYLIGHT
DTSTART:20220327T030000
TZOFFSETFROM:+0100
TZOFFSETTO:+0200
TZNAME:CEST
END:DAYLIGHT
END:VTIMEZONE
END:VCALENDAR