BEGIN:VCALENDAR
VERSION:2.0
PRODID:-//wp-events-plugin.com//6.4.10//EN
TZID:Europe/Vienna
X-WR-TIMEZONE:Europe/Vienna
BEGIN:VEVENT
UID:870@verkehrsakademie.at
DTSTART;TZID=Europe/Vienna:20180614T084500
DTEND;TZID=Europe/Vienna:20180614T180000
DTSTAMP:20180507T130510Z
URL:https://www.verkehrsakademie.at/events/fsv-verkehrstag-2018/
SUMMARY:FSV-Verkehrstag 2018
DESCRIPTION:\n\n\n\n\n\n\n\nWie in den Vorjahren werden auch im Jahr 2018 d
 ie Themen\, die am Verkehrstag vorgetragen werden\, aus den Projekten der
  Arbeitsgruppen und Arbeitsausschüsse gewählt. Somit wird jedes Jahr sic
 hergestellt\, dass ausschließlich aktuelle Themen behandlet werden. Wir
  danken an dieser Stelle den Mitarbeitern und Mitarbeiterinnen der Arbeit
 sgruppen und Arbeitsausschüsse für deren unermüdlichen Einsatz bei der
  Erstellung der Richtlinien und Vorschriften für das Straßenwesen (RVS)
  und Eisenbahnwesen (RVE).\n\nInformation\n\n\n\n\n\n\n\n
CATEGORIES:Veranstaltungen
LOCATION:Austria Trend Parkhotel Schönbrunn\, Hietzinger Hauptstr. 10-14\,
  Wien\, 1130\, Österreich
GEO:48.1870706;16.301942999999937
X-APPLE-STRUCTURED-LOCATION;VALUE=URI;X-ADDRESS=Hietzinger Hauptstr. 10-14\
 , Wien\, 1130\, Österreich;X-APPLE-RADIUS=100;X-TITLE=Austria Trend Parkh
 otel Schönbrunn:geo:48.1870706,16.301942999999937
END:VEVENT
BEGIN:VTIMEZONE
TZID:Europe/Vienna
X-LIC-LOCATION:Europe/Vienna
BEGIN:DAYLIGHT
DTSTART:20180325T030000
TZOFFSETFROM:+0100
TZOFFSETTO:+0200
TZNAME:CEST
END:DAYLIGHT
END:VTIMEZONE
END:VCALENDAR