BEGIN:VCALENDAR
VERSION:2.0
PRODID:-//wp-events-plugin.com//6.4.10//EN
TZID:Europe/Vienna
X-WR-TIMEZONE:Europe/Vienna
BEGIN:VEVENT
UID:207@verkehrsakademie.at
DTSTART;TZID=Europe/Vienna:20151116T100000
DTEND;TZID=Europe/Vienna:20151116T160000
DTSTAMP:20151022T120010Z
URL:https://www.verkehrsakademie.at/events/future-business-austria-standor
 t-und-infrastruktursymposium/
SUMMARY:Future Business Austria Standort und Infrastruktursymposium
DESCRIPTION:Generalthema: Wettbewerbsfaktor Infrastruktur\n&nbsp\;\n\nIm St
 andortwettbewerb spielt der Standortfaktor Infrastruktur eine immer wichti
 gere Rolle. Erstklassige Infrastrukturen entscheiden darüber\, ob Unterne
 hmen ihr Business-Potenzial am Standort entfalten können\, oder nicht. Ge
 rade im Zeitalter der Digitalisierung wird deutlich\, dass wirtschaftliche
 r Erfolg und infrastrukturelle Grundlagen Hand in Hand gehen. Vor diesem H
 intergrund zeigt das FBA Infrastruktursymposium auf\, welche Bedeutung Inf
 rastruktur im Wettbewerb spielt und wie Österreich durch strategische Inf
 rastrukturmaßnahmen den Weg an die wirtschaftliche Spitze in Europa finde
 t.\n\nProgramm und Anmeldung
CATEGORIES:Veranstaltungen
LOCATION:Novomatic Forum\, Friedrichstraße 7\, Wien\, 1010\, Österreich
GEO:48.20009510000001;16.366327800000022
X-APPLE-STRUCTURED-LOCATION;VALUE=URI;X-ADDRESS=Friedrichstraße 7\, Wien\,
  1010\, Österreich;X-APPLE-RADIUS=100;X-TITLE=Novomatic Forum:geo:48.2000
 9510000001,16.366327800000022
END:VEVENT
BEGIN:VTIMEZONE
TZID:Europe/Vienna
X-LIC-LOCATION:Europe/Vienna
BEGIN:STANDARD
DTSTART:20151025T020000
TZOFFSETFROM:+0200
TZOFFSETTO:+0100
TZNAME:CET
END:STANDARD
END:VTIMEZONE
END:VCALENDAR