BEGIN:VCALENDAR
VERSION:2.0
PRODID:-//wp-events-plugin.com//6.4.10//EN
TZID:Europe/Vienna
X-WR-TIMEZONE:Europe/Vienna
BEGIN:VEVENT
UID:71@verkehrsakademie.at
DTSTART;TZID=Europe/Vienna:20151013T090000
DTEND;TZID=Europe/Vienna:20151013T170000
DTSTAMP:20150727T081541Z
URL:https://www.verkehrsakademie.at/events/gefahrgutkonferenz/
SUMMARY:Österreichische Gefahrgut-Konferenz 2015
DESCRIPTION:Informationsplattform für den multimodalen Transport gefährli
 cher Güter\nDie Schwerpunkte der österreichischen Gefahrgutkonferenz 201
 5 sind:\n\n	Gefahrgutvorschriften 2015\n	Gefahrgut bei Abfalltransporten\,
  inklusive Lithium-Batterien\n	Ladungssicherung\, Europas Neuordnung\n	Man
 ipulation Digitale Kontrollgeräte\n\nProgramm und Anmeldung
CATEGORIES:Veranstaltungen
LOCATION:WIFI Salzburg\, Julius-Raab-Platz 2\, Salzburg\, 5027\, Österreic
 h
GEO:47.8090104;13.044700199999965
X-APPLE-STRUCTURED-LOCATION;VALUE=URI;X-ADDRESS=Julius-Raab-Platz 2\, Salzb
 urg\, 5027\, Österreich;X-APPLE-RADIUS=100;X-TITLE=WIFI Salzburg:geo:47.8
 090104,13.044700199999965
END:VEVENT
BEGIN:VTIMEZONE
TZID:Europe/Vienna
X-LIC-LOCATION:Europe/Vienna
BEGIN:DAYLIGHT
DTSTART:20150329T030000
TZOFFSETFROM:+0100
TZOFFSETTO:+0200
TZNAME:CEST
END:DAYLIGHT
END:VTIMEZONE
END:VCALENDAR