BEGIN:VCALENDAR
VERSION:2.0
PRODID:-//wp-events-plugin.com//6.4.10//EN
TZID:Europe/Vienna
X-WR-TIMEZONE:Europe/Vienna
BEGIN:VEVENT
UID:907@verkehrsakademie.at
DTSTART;TZID=Europe/Vienna:20190314T170000
DTEND;TZID=Europe/Vienna:20190314T210000
DTSTAMP:20180524T083710Z
URL:https://www.verkehrsakademie.at/events/gefahrgutlenker-ausbildung-klas
 se-7-3/
SUMMARY:Gefahrgutlenker-Ausbildung - Klasse 7
DESCRIPTION:Sie erarbeiten sich die erforderlichen Kenntnisse über die Bef
 örderung von Stoffen der Klasse 7 (radioaktive Stoffe). Sie erlernen die 
 besonderen Verhaltensregeln und Sicherheitsmaßnahmen sowie die Pflichten 
 der Gefahrgutlenker/-innen beim Transport gefährlicher Güter auf der Str
 aße. Sie erlangen die Zusatzqualifikation der Klasse 7 nach bestandener P
 rüfung.\n\nIdeal für: Fahrzeuglenker/-innen\, die neben der Basisausbild
 ung für den Gefahrguttransport eine Erweiterung der Berechtigung der Klas
 se 7 anstreben.\n\nHinweis: Dies ist ein Ergänzungskurs für die Teilnehm
 er/-innen des Kurses 'Gefahrgutlenker-Ausbildung: Erstschulung mit Aufbauk
 urs - Tank' (Veranstaltungsnummer 94280). Die Absolvierung eines Aufbaukur
 ses der Klasse 1 oder 7 mit 4 Lehreinheiten ist nur im Ausbildungsverbund 
 mit der Basisschulung Gefahrgutlenker/-in möglich.\n\nLehrsaalunterricht.
  Anwesenheitspflicht während der gesamten Kursdauer! Die Kurse und Prüfu
 ngen werden in deutscher Sprache abgehalten\, daher sind ausreichende Deut
 schkenntnisse in Wort und Schrift erforderlich!\n\nAbschluss: Eine Anmeldu
 ng zur Prüfung (Veranstaltungsnummer 94780) ist erforderlich. Prüfungsge
 bühr: € 80.
CATEGORIES:Weiterbildung
LOCATION:WIFI Wien\, Währinger Gürtel 97\, Wien\, Österreich\, 1180\, Wi
 en\, Österreich
GEO:48.2266139;16.34884169999998
X-APPLE-STRUCTURED-LOCATION;VALUE=URI;X-ADDRESS=Währinger Gürtel 97\, Wie
 n\, Österreich\, 1180\, Wien\, Österreich;X-APPLE-RADIUS=100;X-TITLE=WIF
 I Wien:geo:48.2266139,16.34884169999998
END:VEVENT
BEGIN:VTIMEZONE
TZID:Europe/Vienna
X-LIC-LOCATION:Europe/Vienna
BEGIN:STANDARD
DTSTART:20181028T020000
TZOFFSETFROM:+0200
TZOFFSETTO:+0100
TZNAME:CET
END:STANDARD
END:VTIMEZONE
END:VCALENDAR