BEGIN:VCALENDAR
VERSION:2.0
PRODID:-//wp-events-plugin.com//6.4.10//EN
TZID:Europe/Vienna
X-WR-TIMEZONE:Europe/Vienna
BEGIN:VEVENT
UID:553@verkehrsakademie.at
DTSTART;TZID=Europe/Vienna:20170509T160000
DTEND;TZID=Europe/Vienna:20170509T183000
DTSTAMP:20170404T083900Z
URL:https://www.verkehrsakademie.at/events/gsv-forum-automatisiertes-fahre
 n/
SUMMARY:GSV Forum Automatisiertes Fahren
DESCRIPTION:Automatisiertes Fahren: Von der Sicherheit des Fahrzeugs zur Si
 cherheit der Systeme\n&nbsp\;\n\nHunderte von Wissenschaftlern\, Technolog
 en\, Ethik- und Verkehrssicherheitsexperten beschäftigen sich damit\, Mac
 hbarkeit\, Sicherheit und die Chancen auf eine breite Akzeptanz des automa
 tisierten Fahrens nachzuweisen. Für einen längeren Zeitraum wird dabei d
 ie Bewältigung der Mischsituation\, in der klassische Fahrzeuge gemeinsam
  mit automatisierten unterwegs sein werden\, im Fokus stehen. Wie weit sin
 d wir auf dem Weg zu einer kontrollierten Umgebung für teilweise automati
 siertes Fahren im öffentlichen Raum? In diesem Forum soll eine Bestandsau
 fnahme im Lichte der in Österreich bevorstehenden Tests gemacht werden\, 
 verbunden mit einem Reality Check im Vergleich zu internationalen Fortschr
 itten.\n\nProgramm und Anmeldung
CATEGORIES:Veranstaltungen
LOCATION:TechGate Vienna\, Donau-City-Straße 1\, Wien\, 1220\, Österreich
GEO:48.2326103;16.413772900000026
X-APPLE-STRUCTURED-LOCATION;VALUE=URI;X-ADDRESS=Donau-City-Straße 1\, Wien
 \, 1220\, Österreich;X-APPLE-RADIUS=100;X-TITLE=TechGate Vienna:geo:48.23
 26103,16.413772900000026
END:VEVENT
BEGIN:VTIMEZONE
TZID:Europe/Vienna
X-LIC-LOCATION:Europe/Vienna
BEGIN:DAYLIGHT
DTSTART:20170326T030000
TZOFFSETFROM:+0100
TZOFFSETTO:+0200
TZNAME:CEST
END:DAYLIGHT
END:VTIMEZONE
END:VCALENDAR