BEGIN:VCALENDAR
VERSION:2.0
PRODID:-//wp-events-plugin.com//6.4.10//EN
TZID:Europe/Vienna
X-WR-TIMEZONE:Europe/Vienna
BEGIN:VEVENT
UID:1456@verkehrsakademie.at
DTSTART;TZID=Europe/Vienna:20220905T100000
DTEND;TZID=Europe/Vienna:20220905T140000
DTSTAMP:20220906T091748Z
URL:https://www.verkehrsakademie.at/events/gsv-forum-backbone-strasse-gege
 nwart-und-zukunft/
SUMMARY:GSV Forum Backbone Strasse - Gegenwart und Zukunft
DESCRIPTION:Die GSV veranstaltet am Mittwoch\, 5. Oktober 2022 von 10.00 
 – 14.00 Uhr\, Registrierung ab 9.30 Uhr\, im Tech Gate Vienna ein Forum 
 zum Thema „Backbone Straße – Gegenwart und Zukunft".\n\nIm Mittelpunk
 t steht die Präsentation der von der GSV beauftragten Studie „Volkswirt
 schaftliche Bedeutung des österreichischen Straßennetzes“ durch Studie
 nautor Dr. Christian Helmenstein vom ECONOMICA Institut und Reaktionen von
  Politik und wichtigen Stakeholdern. Anschließend wird im Rahmen einer Po
 diumsdiskussion die Rolle der Straße bei der Mobilitätswende diskutiert.
 \n\nWeitere Informationen
CATEGORIES:Veranstaltungen
END:VEVENT
BEGIN:VTIMEZONE
TZID:Europe/Vienna
X-LIC-LOCATION:Europe/Vienna
BEGIN:DAYLIGHT
DTSTART:20220327T030000
TZOFFSETFROM:+0100
TZOFFSETTO:+0200
TZNAME:CEST
END:DAYLIGHT
END:VTIMEZONE
END:VCALENDAR