BEGIN:VCALENDAR
VERSION:2.0
PRODID:-//wp-events-plugin.com//6.4.10//EN
TZID:Europe/Vienna
X-WR-TIMEZONE:Europe/Vienna
BEGIN:VEVENT
UID:781@verkehrsakademie.at
DTSTART;TZID=Europe/Vienna:20180116T130000
DTEND;TZID=Europe/Vienna:20180116T170000
DTSTAMP:20171012T110032Z
URL:https://www.verkehrsakademie.at/events/haftung-versicherung-bei-transp
 orten-2/
SUMMARY:Haftung &amp\; Versicherung bei Transporten
DESCRIPTION:Dieses Seminar vermittelt Ihnen einen überblick über die Haft
 ungsgrundlagen und Versicherungen bei Fracht-\, Speditions- und Lagergesch
 äften\, um die Haftungsgefahren und denkbaren\, möglichen Risiken besser
  erkennen und einschätzen zu lernen.HaftungVersicherung_SpedLog
CATEGORIES:Veranstaltungen,Weiterbildung
LOCATION:Hotel Ibis Wien Mariahilf\, Mariahilfer Gürtel 22-24\, Wien\, 106
 0\, Österreich
GEO:48.19319;16.339316
X-APPLE-STRUCTURED-LOCATION;VALUE=URI;X-ADDRESS=Mariahilfer Gürtel 22-24\,
  Wien\, 1060\, Österreich;X-APPLE-RADIUS=100;X-TITLE=Hotel Ibis Wien Mari
 ahilf:geo:48.19319,16.339316
END:VEVENT
BEGIN:VTIMEZONE
TZID:Europe/Vienna
X-LIC-LOCATION:Europe/Vienna
BEGIN:STANDARD
DTSTART:20171029T020000
TZOFFSETFROM:+0200
TZOFFSETTO:+0100
TZNAME:CET
END:STANDARD
END:VTIMEZONE
END:VCALENDAR